BEGIN:VCALENDAR
VERSION:2.0
PRODID:-//Federația Română de Taekwon-do I.T.F. - ECPv6.15.18//NONSGML v1.0//EN
CALSCALE:GREGORIAN
METHOD:PUBLISH
X-ORIGINAL-URL:https://www.taekwondo-itf.ro
X-WR-CALDESC:Evenimente pentru Federația Română de Taekwon-do I.T.F.
REFRESH-INTERVAL;VALUE=DURATION:PT1H
X-Robots-Tag:noindex
X-PUBLISHED-TTL:PT1H
BEGIN:VTIMEZONE
TZID:Europe/Bucharest
BEGIN:DAYLIGHT
TZOFFSETFROM:+0200
TZOFFSETTO:+0300
TZNAME:EEST
DTSTART:20210328T010000
END:DAYLIGHT
BEGIN:STANDARD
TZOFFSETFROM:+0300
TZOFFSETTO:+0200
TZNAME:EET
DTSTART:20211031T010000
END:STANDARD
BEGIN:DAYLIGHT
TZOFFSETFROM:+0200
TZOFFSETTO:+0300
TZNAME:EEST
DTSTART:20220327T010000
END:DAYLIGHT
BEGIN:STANDARD
TZOFFSETFROM:+0300
TZOFFSETTO:+0200
TZNAME:EET
DTSTART:20221030T010000
END:STANDARD
BEGIN:DAYLIGHT
TZOFFSETFROM:+0200
TZOFFSETTO:+0300
TZNAME:EEST
DTSTART:20230326T010000
END:DAYLIGHT
BEGIN:STANDARD
TZOFFSETFROM:+0300
TZOFFSETTO:+0200
TZNAME:EET
DTSTART:20231029T010000
END:STANDARD
END:VTIMEZONE
BEGIN:VEVENT
DTSTART;VALUE=DATE:20220317
DTEND;VALUE=DATE:20220321
DTSTAMP:20260424T174457
CREATED:20220219T072816Z
LAST-MODIFIED:20220326T072000Z
UID:4643-1647475200-1647820799@www.taekwondo-itf.ro
SUMMARY:CAMPIONATUL NAȚIONAL DE TAEKWON-DO PENTRU JUNIORI I\, II\, III ȘI SENIORI\, SIBIU\, 17-20 MAR 2022
DESCRIPTION:Descarcă / Download\n\nInvitatie Campionat National Sibiu 2022 (.pdf)\nRezultate CN juniori III-II-I si seniori Sibiu 2022 (.pdf)
URL:https://www.taekwondo-itf.ro/eveniment/campionatul-national-de-taekwon-do-pentru-juniori-i-ii-iii-si-seniori-sibiu-17-20-mar-2022/
LOCATION:Sibiu\, Strada Sureanu 1\, Sibiu\, Sibiu\, România
CATEGORIES:Adunare Generală,Birou Federal,Campionat Național,Competiție
ATTACH;FMTTYPE=image/jpeg:https://www.taekwondo-itf.ro/wp-content/uploads/2022/02/Afis.jpeg
ORGANIZER;CN="FRTKD":MAILTO:secretary@taekwondo-itf.ro
END:VEVENT
END:VCALENDAR