BEGIN:VCALENDAR
VERSION:2.0
PRODID:-//Federația Română de Taekwon-do I.T.F. - ECPv6.15.18//NONSGML v1.0//EN
CALSCALE:GREGORIAN
METHOD:PUBLISH
X-ORIGINAL-URL:https://www.taekwondo-itf.ro
X-WR-CALDESC:Evenimente pentru Federația Română de Taekwon-do I.T.F.
REFRESH-INTERVAL;VALUE=DURATION:PT1H
X-Robots-Tag:noindex
X-PUBLISHED-TTL:PT1H
BEGIN:VTIMEZONE
TZID:Europe/Bucharest
BEGIN:DAYLIGHT
TZOFFSETFROM:+0200
TZOFFSETTO:+0300
TZNAME:EEST
DTSTART:20180325T010000
END:DAYLIGHT
BEGIN:STANDARD
TZOFFSETFROM:+0300
TZOFFSETTO:+0200
TZNAME:EET
DTSTART:20181028T010000
END:STANDARD
BEGIN:DAYLIGHT
TZOFFSETFROM:+0200
TZOFFSETTO:+0300
TZNAME:EEST
DTSTART:20190331T010000
END:DAYLIGHT
BEGIN:STANDARD
TZOFFSETFROM:+0300
TZOFFSETTO:+0200
TZNAME:EET
DTSTART:20191027T010000
END:STANDARD
BEGIN:DAYLIGHT
TZOFFSETFROM:+0200
TZOFFSETTO:+0300
TZNAME:EEST
DTSTART:20200329T010000
END:DAYLIGHT
BEGIN:STANDARD
TZOFFSETFROM:+0300
TZOFFSETTO:+0200
TZNAME:EET
DTSTART:20201025T010000
END:STANDARD
END:VTIMEZONE
BEGIN:VEVENT
DTSTART;TZID=Europe/Bucharest:20190201T180000
DTEND;TZID=Europe/Bucharest:20190203T160000
DTSTAMP:20260423T074248
CREATED:20190101T150834Z
LAST-MODIFIED:20190130T142458Z
UID:3926-1549044000-1549209600@www.taekwondo-itf.ro
SUMMARY:STAGIUL NAȚIONAL-ZONAL DE PERFECȚIONARE PENTRU SPORTIVI\, BAIA MARE\, 01-03 FEB 2019
DESCRIPTION:Descarcă / Download\n\nInvitatie Stagiu National 01-03.02.2018 Baia Mare (.pdf)\noferta cazare stagiu 1-3 februarie 2019 (.doc)\nProgram-Seminar-National-1-3-Februarie-2018-Baia-Mare (.pdf)
URL:https://www.taekwondo-itf.ro/eveniment/stagiul-national-pentru-sportivi-baia-mare-01-03-feb-2019/
LOCATION:Sala Sporturilor Lascăr Pană\, Baia Mare\, Bulevardul Unirii\, 14A\, Baia Mare\, România
CATEGORIES:Examen,Stagiu
ATTACH;FMTTYPE=image/jpeg:https://www.taekwondo-itf.ro/wp-content/uploads/2019/01/afis.jpg
ORGANIZER;CN="FRTKD":MAILTO:secretary@taekwondo-itf.ro
END:VEVENT
BEGIN:VEVENT
DTSTART;TZID=Europe/Bucharest:20190215T180000
DTEND;TZID=Europe/Bucharest:20190217T160000
DTSTAMP:20260423T074248
CREATED:20190101T161056Z
LAST-MODIFIED:20190206T213251Z
UID:3931-1550253600-1550419200@www.taekwondo-itf.ro
SUMMARY:STAGIUL NAȚIONAL-ZONAL DE PERFECȚIONARE PENTRU SPORTIVI\, VASLUI\, 15-17 FEB 2019
DESCRIPTION:Descarcă / Download\n\nInvitatie Stagiu National 15-17.02.2018 Vaslui (.pdf)
URL:https://www.taekwondo-itf.ro/eveniment/stagiul-national-pentru-sportivi-vaslui-15-17-feb-2019/
LOCATION:Sala Polivalentă Vaslui\, Strada Decebal 1\, Vaslui\, România
CATEGORIES:Examen,Stagiu
ATTACH;FMTTYPE=image/jpeg:https://www.taekwondo-itf.ro/wp-content/uploads/2019/01/afis-1.jpg
ORGANIZER;CN="FRTKD":MAILTO:secretary@taekwondo-itf.ro
END:VEVENT
END:VCALENDAR