BEGIN:VCALENDAR
VERSION:2.0
PRODID:-//Federația Română de Taekwon-do I.T.F. - ECPv6.15.18//NONSGML v1.0//EN
CALSCALE:GREGORIAN
METHOD:PUBLISH
X-ORIGINAL-URL:https://www.taekwondo-itf.ro
X-WR-CALDESC:Evenimente pentru Federația Română de Taekwon-do I.T.F.
REFRESH-INTERVAL;VALUE=DURATION:PT1H
X-Robots-Tag:noindex
X-PUBLISHED-TTL:PT1H
BEGIN:VTIMEZONE
TZID:Europe/Bucharest
BEGIN:DAYLIGHT
TZOFFSETFROM:+0200
TZOFFSETTO:+0300
TZNAME:EEST
DTSTART:20210328T010000
END:DAYLIGHT
BEGIN:STANDARD
TZOFFSETFROM:+0300
TZOFFSETTO:+0200
TZNAME:EET
DTSTART:20211031T010000
END:STANDARD
BEGIN:DAYLIGHT
TZOFFSETFROM:+0200
TZOFFSETTO:+0300
TZNAME:EEST
DTSTART:20220327T010000
END:DAYLIGHT
BEGIN:STANDARD
TZOFFSETFROM:+0300
TZOFFSETTO:+0200
TZNAME:EET
DTSTART:20221030T010000
END:STANDARD
BEGIN:DAYLIGHT
TZOFFSETFROM:+0200
TZOFFSETTO:+0300
TZNAME:EEST
DTSTART:20230326T010000
END:DAYLIGHT
BEGIN:STANDARD
TZOFFSETFROM:+0300
TZOFFSETTO:+0200
TZNAME:EET
DTSTART:20231029T010000
END:STANDARD
END:VTIMEZONE
BEGIN:VEVENT
DTSTART;VALUE=DATE:20220204
DTEND;VALUE=DATE:20220207
DTSTAMP:20260421T012016
CREATED:20220201T201529Z
LAST-MODIFIED:20220206T080129Z
UID:4573-1643932800-1644191999@www.taekwondo-itf.ro
SUMMARY:STAGIUL NAȚIONAL REGIONAL DE TAEKWON-DO ITF PENTRU SPORTIVI\, VASLUI\, 04-06 FEB 2022
DESCRIPTION:Descarcă / Download\n\nInvitatie_stagiu_de_perfecționare_sportivi_2022_Vaslui (.pdf)\nModel întrebări la testul de examen centură 1\, 2\, 3 dan (.pdf)\nEXAMEN_CENTURA-1-2-3-4-dan (.doc)
URL:https://www.taekwondo-itf.ro/eveniment/stagiul-national-regional-de-taekwon-do-itf-pentru-sportivi-vaslui-04-06-feb-2022/
LOCATION:Sala Polivalentă Vaslui\, Strada Decebal 1\, Vaslui\, România
CATEGORIES:Examen,Stagiu
ATTACH;FMTTYPE=image/png:https://www.taekwondo-itf.ro/wp-content/uploads/2022/02/banner.png
ORGANIZER;CN="FRTKD":MAILTO:secretary@taekwondo-itf.ro
END:VEVENT
BEGIN:VEVENT
DTSTART;VALUE=DATE:20220225
DTEND;VALUE=DATE:20220228
DTSTAMP:20260421T012016
CREATED:20220206T075857Z
LAST-MODIFIED:20220216T062111Z
UID:4587-1645747200-1646006399@www.taekwondo-itf.ro
SUMMARY:STAGIUL NAȚIONAL REGIONAL DE TAEKWON-DO ITF PENTRU SPORTIVI\, HAȚEG\, 25-27 FEB 2022
DESCRIPTION:Descarcă / Download\n\nInvitație – Stagiul Național Regional – Hațeg – 25-27 februarie 2022 (.pdf)\nModel întrebări la testul de examen centură 1\, 2\, 3 dan (.pdf)\nEXAMEN_CENTURA-1-2-3-4-dan (.doc)
URL:https://www.taekwondo-itf.ro/eveniment/stagiul-national-regional-de-taekwon-do-itf-pentru-sportivi-deva-25-27-feb-2022/
LOCATION:Hațeg\, Jud. Hunedoara\, Hațeg\, Hunedoara
CATEGORIES:Examen,Stagiu
ATTACH;FMTTYPE=image/png:https://www.taekwondo-itf.ro/wp-content/uploads/2022/02/banner-1.png
ORGANIZER;CN="FRTKD":MAILTO:secretary@taekwondo-itf.ro
END:VEVENT
END:VCALENDAR