BEGIN:VCALENDAR
VERSION:2.0
PRODID:-//Federația Română de Taekwon-do I.T.F. - ECPv6.15.18//NONSGML v1.0//EN
CALSCALE:GREGORIAN
METHOD:PUBLISH
X-ORIGINAL-URL:https://www.taekwondo-itf.ro
X-WR-CALDESC:Evenimente pentru Federația Română de Taekwon-do I.T.F.
REFRESH-INTERVAL;VALUE=DURATION:PT1H
X-Robots-Tag:noindex
X-PUBLISHED-TTL:PT1H
BEGIN:VTIMEZONE
TZID:Europe/Bucharest
BEGIN:DAYLIGHT
TZOFFSETFROM:+0200
TZOFFSETTO:+0300
TZNAME:EEST
DTSTART:20220327T010000
END:DAYLIGHT
BEGIN:STANDARD
TZOFFSETFROM:+0300
TZOFFSETTO:+0200
TZNAME:EET
DTSTART:20221030T010000
END:STANDARD
BEGIN:DAYLIGHT
TZOFFSETFROM:+0200
TZOFFSETTO:+0300
TZNAME:EEST
DTSTART:20230326T010000
END:DAYLIGHT
BEGIN:STANDARD
TZOFFSETFROM:+0300
TZOFFSETTO:+0200
TZNAME:EET
DTSTART:20231029T010000
END:STANDARD
BEGIN:DAYLIGHT
TZOFFSETFROM:+0200
TZOFFSETTO:+0300
TZNAME:EEST
DTSTART:20240331T010000
END:DAYLIGHT
BEGIN:STANDARD
TZOFFSETFROM:+0300
TZOFFSETTO:+0200
TZNAME:EET
DTSTART:20241027T010000
END:STANDARD
END:VTIMEZONE
BEGIN:VEVENT
DTSTART;VALUE=DATE:20230303
DTEND;VALUE=DATE:20230306
DTSTAMP:20260420T061036
CREATED:20230125T165218Z
LAST-MODIFIED:20230302T183436Z
UID:36596-1677801600-1678060799@www.taekwondo-itf.ro
SUMMARY:Stagiul național regional tehnic de perfecționare pentru sportivi și Taekwon-do Kids\, Baia Mare (MM)\, 03-05 MAR 2023
DESCRIPTION:Descarcă / Download\n\nInvitația: Invitatie_stagiu_de_perfecționare_sportivi_2023_Baia Mare (.pdf)\nStagiul National Regional Baia Mare 3-5 martie 2023 – oferta cazare (.doc)\nProgramul stagiului: se va afișa după finalizarea înscrierilor… (.pdf)\nFR TKD ITF – Fisa de examinare 1 dan\nFR TKD ITF – Fisa de examinare 2 dan\nFR TKD ITF – Fisa de examinare 3 dan\nFR TKD ITF – Fisa de examinare 4 dan\nFR TKD ITF – Fisa de examinare 5 dan\nFR TKD ITF – Fisa de examinare 6 dan\nEXAMEN_CENTURA-1-2-3-4-dan\nModel_examen_de_centura_1_2_3_dan
URL:https://www.taekwondo-itf.ro/eveniment/stagiul-national-regional-tehnic-de-perfectionare-pentru-sportivi-si-taekwon-do-kids-baia-mare-mm-03-05-mar-2023/
LOCATION:Baia Mare\, Baia Mare\, Maramureș\, România
CATEGORIES:Examen,Stagiu
ORGANIZER;CN="FRTKD":MAILTO:secretary@taekwondo-itf.ro
END:VEVENT
END:VCALENDAR