BEGIN:VCALENDAR
VERSION:2.0
PRODID:-//Federația Română de Taekwon-do I.T.F. - ECPv6.15.18//NONSGML v1.0//EN
CALSCALE:GREGORIAN
METHOD:PUBLISH
X-ORIGINAL-URL:https://www.taekwondo-itf.ro
X-WR-CALDESC:Evenimente pentru Federația Română de Taekwon-do I.T.F.
REFRESH-INTERVAL;VALUE=DURATION:PT1H
X-Robots-Tag:noindex
X-PUBLISHED-TTL:PT1H
BEGIN:VTIMEZONE
TZID:Europe/Bucharest
BEGIN:DAYLIGHT
TZOFFSETFROM:+0200
TZOFFSETTO:+0300
TZNAME:EEST
DTSTART:20220327T010000
END:DAYLIGHT
BEGIN:STANDARD
TZOFFSETFROM:+0300
TZOFFSETTO:+0200
TZNAME:EET
DTSTART:20221030T010000
END:STANDARD
BEGIN:DAYLIGHT
TZOFFSETFROM:+0200
TZOFFSETTO:+0300
TZNAME:EEST
DTSTART:20230326T010000
END:DAYLIGHT
BEGIN:STANDARD
TZOFFSETFROM:+0300
TZOFFSETTO:+0200
TZNAME:EET
DTSTART:20231029T010000
END:STANDARD
BEGIN:DAYLIGHT
TZOFFSETFROM:+0200
TZOFFSETTO:+0300
TZNAME:EEST
DTSTART:20240331T010000
END:DAYLIGHT
BEGIN:STANDARD
TZOFFSETFROM:+0300
TZOFFSETTO:+0200
TZNAME:EET
DTSTART:20241027T010000
END:STANDARD
END:VTIMEZONE
BEGIN:VEVENT
DTSTART;VALUE=DATE:20230727
DTEND;VALUE=DATE:20230731
DTSTAMP:20260420T002124
CREATED:20230611T171732Z
LAST-MODIFIED:20230725T060017Z
UID:228737-1690416000-1690761599@www.taekwondo-itf.ro
SUMMARY:Stagiul național tehnic de perfecționare pentru sportivi și Taekwon-do Kids\, Bușteni (PH)\, 27-30 IUL 2023
DESCRIPTION:Descarcă / Download\n\nInvitația: Invitatie Stagiul National Busteni 2023 (.pdf)\nProgram: Stagiu-National-Busteni-2023-Program (.pdf)\nFR TKD ITF – Fisa de examinare 1 dan\nFR TKD ITF – Fisa de examinare 2 dan\nFR TKD ITF – Fisa de examinare 3 dan\nFR TKD ITF – Fisa de examinare 4 dan\nFR TKD ITF – Fisa de examinare 5 dan\nFR TKD ITF – Fisa de examinare 6 dan\nEXAMEN_CENTURA-1-2-3-4-dan\nModel_examen_de_centura_1_2_3_dan
URL:https://www.taekwondo-itf.ro/eveniment/stagiul-national-tehnic-de-perfectionare-pentru-sportivi-si-taekwon-do-kids-busteni-ph-27-30-iul-2023/
LOCATION:Bușteni\, Jud. Prahova
CATEGORIES:Examen,Stagiu
ATTACH;FMTTYPE=image/jpeg:https://www.taekwondo-itf.ro/wp-content/uploads/2023/06/Baner.jpeg
ORGANIZER;CN="FRTKD":MAILTO:secretary@taekwondo-itf.ro
END:VEVENT
END:VCALENDAR