BEGIN:VCALENDAR
VERSION:2.0
PRODID:-//Federația Română de Taekwon-do I.T.F. - ECPv6.15.18//NONSGML v1.0//EN
CALSCALE:GREGORIAN
METHOD:PUBLISH
X-WR-CALNAME:Federația Română de Taekwon-do I.T.F.
X-ORIGINAL-URL:https://www.taekwondo-itf.ro
X-WR-CALDESC:Evenimente pentru Federația Română de Taekwon-do I.T.F.
REFRESH-INTERVAL;VALUE=DURATION:PT1H
X-Robots-Tag:noindex
X-PUBLISHED-TTL:PT1H
BEGIN:VTIMEZONE
TZID:Europe/Bucharest
BEGIN:DAYLIGHT
TZOFFSETFROM:+0200
TZOFFSETTO:+0300
TZNAME:EEST
DTSTART:20160327T010000
END:DAYLIGHT
BEGIN:STANDARD
TZOFFSETFROM:+0300
TZOFFSETTO:+0200
TZNAME:EET
DTSTART:20161030T010000
END:STANDARD
BEGIN:DAYLIGHT
TZOFFSETFROM:+0200
TZOFFSETTO:+0300
TZNAME:EEST
DTSTART:20170326T010000
END:DAYLIGHT
BEGIN:STANDARD
TZOFFSETFROM:+0300
TZOFFSETTO:+0200
TZNAME:EET
DTSTART:20171029T010000
END:STANDARD
BEGIN:DAYLIGHT
TZOFFSETFROM:+0200
TZOFFSETTO:+0300
TZNAME:EEST
DTSTART:20180325T010000
END:DAYLIGHT
BEGIN:STANDARD
TZOFFSETFROM:+0300
TZOFFSETTO:+0200
TZNAME:EET
DTSTART:20181028T010000
END:STANDARD
END:VTIMEZONE
BEGIN:VEVENT
DTSTART;VALUE=DATE:20170824
DTEND;VALUE=DATE:20170830
DTSTAMP:20260424T020224
CREATED:20170114T094109Z
LAST-MODIFIED:20170818T114451Z
UID:2989-1503532800-1504051199@www.taekwondo-itf.ro
SUMMARY:Stagiul Național de Vară pentru instructori\, antrenori\, arbitri și sportivi\, 2017
DESCRIPTION:Descarcă / Download\n\ninvitatie stagiu 2017 – Eforie Nord (.PDF)\nFisa_inscriere_stagiu_Eforie_Nord_-_2017 (.XLSX)\nProgram_Stagiu_Eforie_Nord_-_2017 (.DOCX)
URL:https://www.taekwondo-itf.ro/eveniment/stagiul-national-de-vara-pentru-instructori-antrenori-arbitri-si-sportivi-2017/
LOCATION:Constanța\, Constanța\, Constanța\, România
CATEGORIES:Stagiu
ATTACH;FMTTYPE=image/jpeg:https://www.taekwondo-itf.ro/wp-content/uploads/2017/01/Afis.jpeg
END:VEVENT
END:VCALENDAR