BEGIN:VCALENDAR
VERSION:2.0
PRODID:-//Federația Română de Taekwon-do I.T.F. - ECPv6.15.18//NONSGML v1.0//EN
CALSCALE:GREGORIAN
METHOD:PUBLISH
X-ORIGINAL-URL:https://www.taekwondo-itf.ro
X-WR-CALDESC:Evenimente pentru Federația Română de Taekwon-do I.T.F.
REFRESH-INTERVAL;VALUE=DURATION:PT1H
X-Robots-Tag:noindex
X-PUBLISHED-TTL:PT1H
BEGIN:VTIMEZONE
TZID:Europe/Bucharest
BEGIN:DAYLIGHT
TZOFFSETFROM:+0200
TZOFFSETTO:+0300
TZNAME:EEST
DTSTART:20160327T010000
END:DAYLIGHT
BEGIN:STANDARD
TZOFFSETFROM:+0300
TZOFFSETTO:+0200
TZNAME:EET
DTSTART:20161030T010000
END:STANDARD
BEGIN:DAYLIGHT
TZOFFSETFROM:+0200
TZOFFSETTO:+0300
TZNAME:EEST
DTSTART:20170326T010000
END:DAYLIGHT
BEGIN:STANDARD
TZOFFSETFROM:+0300
TZOFFSETTO:+0200
TZNAME:EET
DTSTART:20171029T010000
END:STANDARD
BEGIN:DAYLIGHT
TZOFFSETFROM:+0200
TZOFFSETTO:+0300
TZNAME:EEST
DTSTART:20180325T010000
END:DAYLIGHT
BEGIN:STANDARD
TZOFFSETFROM:+0300
TZOFFSETTO:+0200
TZNAME:EET
DTSTART:20181028T010000
END:STANDARD
END:VTIMEZONE
BEGIN:VEVENT
DTSTART;VALUE=DATE:20170922
DTEND;VALUE=DATE:20171002
DTSTAMP:20260424T002824
CREATED:20170114T094335Z
LAST-MODIFIED:20170831T123146Z
UID:2993-1506038400-1506902399@www.taekwondo-itf.ro
SUMMARY:Stagiu pregătire Lot Național – 22.09 - 01.10.2017
DESCRIPTION:Baia Mare\, Hotel Seneca: sosire 22.09 – cină\, plecare 29.09 – prânz \nSibiu – sosire 29.09\, plecare 01.10.
URL:https://www.taekwondo-itf.ro/eveniment/stagiu-pregatire-lot-national-toamna-2017/
LOCATION:Hotel Seneca\, Str. Margeanului\, nr. 11B\, Baia Mare\, Maramureș\, 430014\, România
CATEGORIES:Stagiu
ATTACH;FMTTYPE=image/jpeg:https://www.taekwondo-itf.ro/wp-content/uploads/2017/01/21077443_1940942209453571_6399487473043954188_n.jpg
ORGANIZER;CN="FRTKD":MAILTO:secretary@taekwondo-itf.ro
END:VEVENT
END:VCALENDAR