BEGIN:VCALENDAR
VERSION:2.0
PRODID:-//Federația Română de Taekwon-do I.T.F. - ECPv6.15.18//NONSGML v1.0//EN
CALSCALE:GREGORIAN
METHOD:PUBLISH
X-ORIGINAL-URL:https://www.taekwondo-itf.ro
X-WR-CALDESC:Evenimente pentru Federația Română de Taekwon-do I.T.F.
REFRESH-INTERVAL;VALUE=DURATION:PT1H
X-Robots-Tag:noindex
X-PUBLISHED-TTL:PT1H
BEGIN:VTIMEZONE
TZID:Europe/Bucharest
BEGIN:DAYLIGHT
TZOFFSETFROM:+0200
TZOFFSETTO:+0300
TZNAME:EEST
DTSTART:20160327T010000
END:DAYLIGHT
BEGIN:STANDARD
TZOFFSETFROM:+0300
TZOFFSETTO:+0200
TZNAME:EET
DTSTART:20161030T010000
END:STANDARD
BEGIN:DAYLIGHT
TZOFFSETFROM:+0200
TZOFFSETTO:+0300
TZNAME:EEST
DTSTART:20170326T010000
END:DAYLIGHT
BEGIN:STANDARD
TZOFFSETFROM:+0300
TZOFFSETTO:+0200
TZNAME:EET
DTSTART:20171029T010000
END:STANDARD
BEGIN:DAYLIGHT
TZOFFSETFROM:+0200
TZOFFSETTO:+0300
TZNAME:EEST
DTSTART:20180325T010000
END:DAYLIGHT
BEGIN:STANDARD
TZOFFSETFROM:+0300
TZOFFSETTO:+0200
TZNAME:EET
DTSTART:20181028T010000
END:STANDARD
END:VTIMEZONE
BEGIN:VEVENT
DTSTART;TZID=Europe/Bucharest:20171117T150000
DTEND;TZID=Europe/Bucharest:20171119T190000
DTSTAMP:20260423T212610
CREATED:20170114T095222Z
LAST-MODIFIED:20181101T145215Z
UID:3002-1510930800-1511118000@www.taekwondo-itf.ro
SUMMARY:Cupa României de Taekwon-do ITF pentru Seniori și Juniori I\, II\, III - Sibiu\, 17 - 19.11.2017
DESCRIPTION:
URL:https://www.taekwondo-itf.ro/eveniment/cupa-romaniei-de-taekwon-do-itf-pentru-seniori-si-juniori-i-ii-iii-2017/
LOCATION:Sibiu\, Strada Sureanu 1\, Sibiu\, Sibiu\, România
CATEGORIES:Competiție,Cupă Națională
ATTACH;FMTTYPE=image/jpeg:https://www.taekwondo-itf.ro/wp-content/uploads/2017/01/Afis_CR_Sibiu_2017.jpg
END:VEVENT
END:VCALENDAR