BEGIN:VCALENDAR
VERSION:2.0
PRODID:-//Federația Română de Taekwon-do I.T.F. - ECPv6.15.18//NONSGML v1.0//EN
CALSCALE:GREGORIAN
METHOD:PUBLISH
X-WR-CALNAME:Federația Română de Taekwon-do I.T.F.
X-ORIGINAL-URL:https://www.taekwondo-itf.ro
X-WR-CALDESC:Evenimente pentru Federația Română de Taekwon-do I.T.F.
REFRESH-INTERVAL;VALUE=DURATION:PT1H
X-Robots-Tag:noindex
X-PUBLISHED-TTL:PT1H
BEGIN:VTIMEZONE
TZID:Europe/Bucharest
BEGIN:DAYLIGHT
TZOFFSETFROM:+0200
TZOFFSETTO:+0300
TZNAME:EEST
DTSTART:20170326T010000
END:DAYLIGHT
BEGIN:STANDARD
TZOFFSETFROM:+0300
TZOFFSETTO:+0200
TZNAME:EET
DTSTART:20171029T010000
END:STANDARD
BEGIN:DAYLIGHT
TZOFFSETFROM:+0200
TZOFFSETTO:+0300
TZNAME:EEST
DTSTART:20180325T010000
END:DAYLIGHT
BEGIN:STANDARD
TZOFFSETFROM:+0300
TZOFFSETTO:+0200
TZNAME:EET
DTSTART:20181028T010000
END:STANDARD
BEGIN:DAYLIGHT
TZOFFSETFROM:+0200
TZOFFSETTO:+0300
TZNAME:EEST
DTSTART:20190331T010000
END:DAYLIGHT
BEGIN:STANDARD
TZOFFSETFROM:+0300
TZOFFSETTO:+0200
TZNAME:EET
DTSTART:20191027T010000
END:STANDARD
END:VTIMEZONE
BEGIN:VEVENT
DTSTART;VALUE=DATE:20180126
DTEND;VALUE=DATE:20180129
DTSTAMP:20260423T181500
CREATED:20171224T195051Z
LAST-MODIFIED:20180121T194713Z
UID:3638-1516924800-1517183999@www.taekwondo-itf.ro
SUMMARY:STAGIUL TEHNIC NAȚIONAL PENTRU INSTRUCTORI\, ANTRENORI\, ARBITRI ȘI SPORTIVI\, BAIA MARE\, 26-28 IAN 2018
DESCRIPTION:Federaţia Română de Taekwon-do I.T.F. și Clubul Sportiv Știința-Dragonul Baia Mare\, în colaborare cu Clubul Sportiv Minaur Baia Mare\, Primăria Muncipiului Baia Mare și Direcția Județeană pentru Sport și Tineret Maramureș\, vă invită să participaţi la Stagiul Național Tehnic de Taekwon-do ITF pentru instructori\, antrenori\, arbitri și sportivi\, care va avea loc în perioada 26-28 ianuarie 2018 în localitatea Baia Mare. \n\n\nDescarcă\n\nInvitatie Stagiu National 26-28.01.2018 Baia Mare\nFișa de înscriere stagiu Baia Mare – 2018 (.xls)\nModel_examen_de_centura_1_2_3_dan (.pdf)
URL:https://www.taekwondo-itf.ro/eveniment/stagiul-tehnic-national-pentru-instructori-antrenori-arbitri-si-sportivi-baia-mare-26-28-ian-2018/
LOCATION:Baia Mare\, Baia Mare\, Maramureș\, România
CATEGORIES:Adunare Generală,Alegeri,Birou Federal,Examen,Stagiu
ATTACH;FMTTYPE=image/jpeg:https://www.taekwondo-itf.ro/wp-content/uploads/2017/01/26543611_10215500745857540_472690809_o.jpg
ORGANIZER;CN="Comisia Tehnic%C4%83 a FRTKD ITF":MAILTO:comisie.tehnica@taekwondo-itf.ro
END:VEVENT
END:VCALENDAR