BEGIN:VCALENDAR
VERSION:2.0
PRODID:-//Federația Română de Taekwon-do I.T.F. - ECPv6.15.18//NONSGML v1.0//EN
CALSCALE:GREGORIAN
METHOD:PUBLISH
X-ORIGINAL-URL:https://www.taekwondo-itf.ro
X-WR-CALDESC:Evenimente pentru Federația Română de Taekwon-do I.T.F.
REFRESH-INTERVAL;VALUE=DURATION:PT1H
X-Robots-Tag:noindex
X-PUBLISHED-TTL:PT1H
BEGIN:VTIMEZONE
TZID:Europe/Bucharest
BEGIN:DAYLIGHT
TZOFFSETFROM:+0200
TZOFFSETTO:+0300
TZNAME:EEST
DTSTART:20170326T010000
END:DAYLIGHT
BEGIN:STANDARD
TZOFFSETFROM:+0300
TZOFFSETTO:+0200
TZNAME:EET
DTSTART:20171029T010000
END:STANDARD
BEGIN:DAYLIGHT
TZOFFSETFROM:+0200
TZOFFSETTO:+0300
TZNAME:EEST
DTSTART:20180325T010000
END:DAYLIGHT
BEGIN:STANDARD
TZOFFSETFROM:+0300
TZOFFSETTO:+0200
TZNAME:EET
DTSTART:20181028T010000
END:STANDARD
BEGIN:DAYLIGHT
TZOFFSETFROM:+0200
TZOFFSETTO:+0300
TZNAME:EEST
DTSTART:20190331T010000
END:DAYLIGHT
BEGIN:STANDARD
TZOFFSETFROM:+0300
TZOFFSETTO:+0200
TZNAME:EET
DTSTART:20191027T010000
END:STANDARD
END:VTIMEZONE
BEGIN:VEVENT
DTSTART;TZID=Europe/Bucharest:20180302T150000
DTEND;TZID=Europe/Bucharest:20180304T180000
DTSTAMP:20260423T152319
CREATED:20171224T195927Z
LAST-MODIFIED:20181101T145254Z
UID:3641-1520002800-1520186400@www.taekwondo-itf.ro
SUMMARY:CAMPIONATUL NAȚIONAL DE TAEKWON-DO ITF PENTRU SENIORI ȘI JUNIORI III\, II\, I\, BAIA MARE\, 02-04 MAR 2018
DESCRIPTION:Federaţia Română de Taekwon-do I.T.F. şi Clubul Sportiv Știința-Dragonul Baia Mare au deosebita plăcere şi onoare de a vă invita să participaţi la Campionatul Național de Taekwon-do I.T.F pentru juniori III\, II\, I și seniori\, în perioada 2-4 martie 2018\, localitatea Baia Mare\, județul Maramureș. \nComitetul de organizare face eforturi deosebite pentru a vă oferi cele mai bune condiţii de întrecere aşteptând cu nerăbdare să întâmpine un număr cât mai mare de sportivi\, la acest eveniment sportiv. \nCu stimă şi consideraţie\,\n Preşedinte\,\n Cosmin Oprescu\n\n\nA. Informații generale\nOrganizatori\n\n\n\n\nFederaţia Română de Taekwon-do I.T.F.\n\nStr. Bradului\, 15-A-12\n Loc. Călan\, Jud. Hunedoara\n Tel: 0766.800.330\n Email: president@taekwondo-itf.ro\n\n\n\nClubul Sportiv Știința-Dragonul Baia Mare\n\nTel: 0744.753.754\n Email: dragonul_tkd@yahoo.com\n\n\n\nData\n2-4 martie 2018\nLocul\nSala Sporturilor „Lascăr Pană” din Baia Mare\, jud. Maramureș\n\n\nB. Regulament\n1. Participanți\nStructurile sportive cu C.I.S. eliberat de M.T.S.\, afiliate la Federaţia Română de Taekwon-do I.T.F. şi cu taxele plătite pe anul 2018. \nParticipă numai sportivi legitimaţi şi cu gradele acordate de către Federaţia Română de Taekwon-do I.T.F.\, număr nelimitat de sportivi / categorie / club. \nGradele vor fi achitate în contul federaţiei până la data înscrierii în competiţie iar sportivii vor fi validaţi de către Comisia de Evidență a Membrilor și Înscriere. Pentru a evita eventualele neclarităţi rugăm preşedinţii cluburilor să trimită dovada plăţii şi tabelul cu sportivii promovaţi în grad\, pentru a putea fi validați în sistemul online\, pe adresa secretary@taekwondo-itf.ro. \nSportivii născuţi în anul 2000 sunt juniori (participă la juniori I chiar dacă au împlinit 18 ani) dar pot opta pentru a participa la seniori (nu la ambele!!) la probele individuale şi pe echipe. \nGradul minim admis: \n\n 	juniori III\, II: 9 GUP\n 	juniori I: 8 GUP\n 	seniori: 6 GUP\n\nLa probele de echipe juniori\, masculin şi feminin\, echipa este formată din 5 (minim 3) sportivi pe categorie și trebuie să fie conform categoriei de vârstă la care este înscrisă echipa.  \n\n2. Probele de concurs\nJUNIORI III-II (masculin şi feminin) TULL\, LUPTĂ\, TEHNICI SPECIALE și SPARGERI FORȚĂ ”dinamometru”\nTull (M/F):\n\n 	-6 ani\, -8 ani: o singură grupă\n 	-10 ani\, -12 ani\, -14 ani: două grupe\n\n 	9-6 GUP\n 	5-1 GUP\n\n\n\nTull echipe: (M/F)\n\nLuptă (M/F):\n\n 	-8 ani: -24 kg\, +24 kg\n 	–10 ani: -30 kg\, -35 kg\, -40 kg\, -45 kg\, +45 kg\n 	-12 ani: -30 kg\, -35 kg\, -40 kg\, -45 kg\, – 50 kg\, +50 kg\n 	-14 ani: -35 kg\, -40 kg\, -45 kg\, -50 kg\, -55 kg\, +55 kg \n\nNOTĂ: În cazul în care nu sunt înscriși minim 3 sportivi per categorie\, se comasează categoria mai mică la cea mai mare.\n\nTehnici speciale: \n\n 	Twimyo nopi yop cha jirugi (-8 ani și -10 ani)\n 	Twimyo nopi chagi\, twimyo Nopi Yop Chagi si Twimyo Dollyo chagi (- 12 ani) \n 	Toate probele de la juniori I / seniori la (-14 ani)\n\nSpargeri Forță: \n\n 	M/F: -8 ani\, -10 ani\, -12 ani\, -14 ani: Sonkal taerigi și dollyo chagi\n\nJUNIORI I\nPot participa şi sportivi juniori II cu 13 ani împliniţi dar fără proba de luptă și spargere de forţă individual şi echipă).\n\nSportivii care au împlinit 13 ani și 6 luni pot participa la luptă juniori I.\n\n 	Tull individual masculin şi feminin: centuri colorate\, I DAN\, II DAN;\n 	Tull echipe masculin şi feminin (minim 5 sportivi juniori);\n 	Luptă individuală masculin: -50 kg; -56 kg; -62 kg; -68 kg; -75 kg; + 75 kg;\n 	Luptă individuală feminin: -45 kg; -50 kg; -55 kg; -60 kg; -65 kg; + 65 kg;\n 	Luptă echipe masculin şi feminin (minim 3 sportivi juniori / junioare);\n 	Spargeri forţă individual masculin şi feminin;\n 	Spargeri forţă echipe (minim 3 sportivi juniori / junioare);\n 	Tehnici speciale individual masculin şi feminin;\n 	Tehnici speciale echipe masculin şi feminin (minim 3 sportivi juniori / junioare) ;\n 	Luptă tradiţională: 2 Gup; echipa poate fi şi mixtă: masculin – feminin\, doar juniori (NU se plăteşte taxa de înscriere separat pentru această probă)\n\nSENIORI\nPot participa doar sportivii seniori.\n\n 	Tull individual masculin şi feminin: centuri colorate\, centuri negre I DAN\, II DAN\, III DAN\, IV – V DAN\n 	Tull echipe masculin şi feminin (minim 5 sportivi seniori);\n 	Luptă individuală masculin : -57 kg; -63 kg; -70 kg; -78 kg; -85 kg; +85 kg;\n 	Luptă individuală feminin: -50 kg; -56 kg; -62 kg; -68 kg; -75 kg; +75 kg;\n 	Luptă echipe masculin şi feminin (minim 3 sportivi seniori);\n 	Spargeri forţă individual masculin şi feminin;\n 	Spargeri forţă echipe (minim 3 sportivi seniori);\n 	Tehnici speciale individual masculin şi feminin;\n 	Tehnici speciale echipe masculin şi feminin (minim 3 sportivi seniori);\n 	Luptă tradiţională: gradul minim 2 Gup. Echipa poate fi mixtă: masculin-feminin (NU se plăteşte taxa de înscriere separat pentru această probă).\n\nLUPTA OLD-BOYS (peste 35 ani) două categorii: -75 kg; +75 kg (în cazul în care nu sunt cel puțin 3 participanți / categorie\, se pot reuni cele două categorii).\n\n\n\nTEHNICI SPECIALE MASCULIN\n\n\n\nTEHNICA\nJUNIORI I\nSENIORI\n\n\nTWIMYO NOPI AP CHA BUSIGI\n250 cm\n260 cm\n\n\nTWIMYO DOLLYO CHAGI\n230 cm\n240 cm\n\n\nTWIMYO BANDAE DOLLYO CHAGI\n210 cm\n220 cm\n\n\nTWIMYO DOLMYO YOP CHA JIRUGI\n210 cm\n220 cm\n\n\nTWIMYO NOPI YOP CHA JIRUGI\n130 cm\n140 cm\n\n\n\n\n\nTEHNICI SPECIALE FEMININ\n\n\n\nTEHNICA\nJUNIOARE I\nSENIOARE\n\n\nTWIMYO NOPI AP CHA BUSIGI\n210 cm\n220 cm\n\n\nTWIMYO DOLLYO CHAGI\n200 cm\n210 cm\n\n\nTWIMYO NOPI YOP CHA JIRUGI\n110 cm\n120 cm\n\n\n\n\n\nSPARGERI FORŢĂ MASCULIN\n\n\n\nTEHNICA\nJUNIORI\nSENIORI\n\n\nAP-JOOMUK JIRUGI\n2\n3\n\n\nSONKAL TAERIGI\n2\n3\n\n\nYOP CHA JIRUGI\n3\n4\n\n\nDOLLYO CHAGI\n2\n3\n\n\nBANDAE DOLLYO CHAGI\n2\n3\n\n\n\n\n\nSPARGERI FORŢĂ FEMININ\n\n\n\nTEHNICA\nJUNIOARE\nSENIOARE\n\n\nSONKAL TAERIGI\n1\n2\n\n\nYOP CHA JIRUGI\n2\n3\n\n\nDOLLYO CHAGI\n1\n2\n\n\n\n3. Echipamentul sportivilor\n\n 	Echipamentul oficial este cel omologat şi aprobat de FRTKD ITF\, A.E.T.F și I.T.F.\n 	Echipamentul fiecărui sportiv va fi verificat de un arbitru desemnat la intrarea acestuia pe suprafaţa de competiţie.\n 	Sportivii vor avea acces la suprafaţa de concurs doar însoţiţi de un instructor sau antrenor de taekwon-do ITF\, pe baza cardului\, fiind echipaţi în culoarea colţului\, cu 2 minute înainte de începerea meciului\, conform grilelor de concurs.\n\n4. Contestații\nSe fac pe baza regulamentului de arbitraj. În cazul contestaţiei\, antrenorul trebuie să prezinte banii şi să completeze formularul de contestaţie pe loc\, la masa Jury President a ringului respectiv\, în maxim 5 minute de la terminarea întâlnirii în cauză. \n\n5. Cântarul\nCântărirea sportivilor va fi făcută la înscriere vineri\, 2 martie 2018\, de la ora 16.30 până la ora 19.00 la sediul DJTS Maramureș\, Baia Mare\, Bld. Unirii 14A\, sau în mod excepțional sâmbătă\, 03.03.2018 la ora 08.30\, la Sala Sporturilor Lascăr Pană din Baia Mare. \nLA CÂNTAR NU ESTE ADMISĂ DEPĂŞIREA LIMITEI MAXIME A CATEGORIEI! \nLa cântar sportivii se vor prezenta în pantaloni de dobok şi tricou (acestea însumând 0\,500 kg\, care vor fi scăzute). \nSportivii care la cântar depăşesc limita de greutate au la dispoziţie 1 oră (doar în ziua de vineri) de la primul cântar oficial pentru a confirma categoria. Dacă la al doilea cântar oficial\, vinerea\, sportivii nu se încadreză în categoria la care au fost înscrişi\, aceştia vor fi retraşi din categoria acestora. \n\nC. Înscriere\n1. Componența echipelor\nFiecare delegaţie poate fi alcătuită din:\n\n 	1 conducător delegaţie\n 	1-2 antrenori sau instructori\n 	sportivi competitori – juniori III\, II\, I şi seniori (masculin şi feminin)\n 	1 arbitru (sau mai mulţi) acreditaţi\n\n2. Cluburi eligibile pentru participare\nÎnscrierea sportivilor\, arbitrilor\, instructorilor în competiţie se va face online\, fiecare conducător de delegație primind în prealabil acces pe bază de utilizator și parolă la sistemul electronic de înscriere. \nFinalizarea înscrierilor va avea loc vineri\, 2 martie 2018\, de la ora 16.00\, până la ora 19.00 la sediul DJTS Maramureș\, Baia Mare\, bld. Unirii 14A\, conform programului de prezentare la înscriere care va fi anunțat până la această dată. \nÎnscrierea se va face de către 1 antrenor / instructor de la clubul respectiv. Antrenorul / instructorul va verifica fişele de înscriere în competiţie scoase din sistemul online\, fişele de legitimare\, tabelele centralizatoare şi carnetele de legitimare completate si cu pozele lipite\, puse în ordinea înscrierii sportivilor pe fişe şi va achita taxele de competiţie. \nVor fi verificate legitimările care trebuie să conţină: viza anuală de sportiv\, viză medicală eliberată de policlinica sportivă pe prima parte a anului 2018\, gradul sportivului care trebuie să coincidă cu cel înregistrat la Federaţie. \nÎn cazul noilor legitimări\, acestea vor prezentate conform cerinţelor concursurilor anterioare. Fiecare club va avea tabelul nominal care va cuprinde toţi sportivii ce urmează a fi legitimaţi. Toate tipurile de fişe pot fi găsite pe pagina web a federaţiei. Orice omisiune a acestora nu permite înscrierea sportivilor în cauză în concurs. \nOrice litigiu se va lămuri cu oricare din membrii Comisiei de Evidență a Membrilor și Înscriere. \nNotă: \n\n\n 	Conducătorii delegaţiilor au obligaţia ca la înscrierea în competiţie conform programului să prezinte tabelul cu responsabilitatea accidentelor. \n 	La categoria oficiali\, pentru poziţiile antrenor sau instructor\, nu pot fi înscrise persoane ce nu deţin această calitate.\n\n3. Data limită\nCluburile vor solicita cazarea pentru arbitri (conform numărului de sportivi înscriși) până în data de 20 februarie 2018 pe adresa: dragonul_tkd@yahoo.com. Arbitrii care nu și-au făcut rezervarea până la această dată își vor suporta cheltuielile de cazare și masă. \nÎnscrierea în sistemul online se va face până la 25 februarie 2018\, ora 21:00. După aceast termen\, sistemul va bloca automat procesul de înscriere și nu se vor mai putea face modificări. Operarea înscrierilor în sistemul online poate lua un timp considerabil\, ținând cont de numărul de persoane înscrise\, sunt necesare încărcări de fotografii pentru fiecare persoană înscrisă. NU VĂ BAZAȚI PE ULTIMA ZI!!! \nModificări: \n\n\n 	Se acceptă doar modificările pe grile (eventuale erori apărute la introducerea sportivilor în sistem)\, în 26 februarie 2018\, prin semnalarea acestora pe email la adresa secretary@taekowndo-itf.ro \n 	După data limită de verificare (26 februarie 2018\, ora 21.00)\, nu se mai accepta nici o modificare.\n\nTragerile la sorţi vor fi efectuate electronic în sistem online de către domnul Secretar Federal Popa Cristian în data de 27.02.2018 la ora 22:00. Orice nelămurire legată de tragerea la sorti se va dezbate la ședința tehnică\, după înscrierea cluburilor\, la ora 19.00. \n\n4. Taxe de participare\n\n 	taxă de participare sportiv la toate probele: 50 lei / sportiv ( indiferent la câte probe concurează)\n 	taxă de participare echipă: 10 lei / persoană / echipă (indiferent că echipa participă la o probă sau 4 probe) – juniori III\,II\, I\, seniori\, masculin\, feminin \n 	taxa arbitraj: fără arbitru 300 lei / club\, cluburi cu 1 arbitru – 100 lei / club\, cluburi cu minim 2 arbitri – 70 lei / club.\n 	În situația în care sunt cluburi care nu au achitat taxele anuale și doresc să participe la campionat\, trebuie să achite taxele prezentate pe pagina www.taekwondo-itf.ro.\n 	Cluburile participante trebuie sã asigure: 1 arbitru / club pentru cluburile care au între 1 până la 10 sportivi\, 2 arbitri pentru cluburile care au între 11 până la 20 sportivi și 3 arbitri pentru cluburile care au peste 20 de sportivi.\n\nToate taxele vor fi facturate după tragerea la sorți online în data de 27.02.2018 iar cluburile vor fi obligate să achite sumele stabilite pentru sportivii înscriși (se achită sumele chiar și pentru spotivii retrași după data de 27 februarie 2018). \n\n5. Arbitraj\nOrganizatorul local va plăti cazarea pentru 1 ARBITRU / club pentru cluburile care înscriu în competitie până la 10 sportivi\, 2 ARBITRI / club pentru cluburile care încriu 11-19 sportivi în concurs și 3 ARBITRI / club pentru cluburile care încriu 20-30 sportivi în concurs. Arbitrii vor fi din cei acreditați de către federaţie pentru anul competitional 2018. Cazarea arbitrilor va începe de vineri 02.03.2018 orele 14:00 pânã duminică 04.03.2018 orele 12:00 la Hotel Carpați. \nCluburile vor solicita cazarea pentru arbitri (conform numărului de sportivi inscriși) până în data de 20 februarie 2018. Arbitrii care nu și-au făcut rezervarea până la această dată își vor suporta cheltuielile de cazare și masă. \nArbitrii au obligaţia să participe la şedinţa de arbitraj – vineri 02.03.2018\, ÎN COSTUM DE ARBITRU\, aproximativ orele 20:00 la sediul DJTS Maramureș\, Baia Mare\, bld. Unirii 14A. Cei care nu sunt prezenţi la sedinţa de arbitraj\, vor fi excluşi de pe lista arbitrilor şi vor pierde drepturile de cazare. \nVor avea ţinuta regulamentară de arbitru I.T.F. Cei care nu au ţinută regulamentară vor fi excluşi\, pierzându-şi drepturile de arbitraj (cazare\, plată). Arbitrii acceptaţi sunt cei de pe lista arbitrilor acreditaţi şi validaţi de Federaţia Română de Taekwon-Do I.T.F\, actualizată pe anul 2018\, după Stagiul de la Baia Mare 2018. Comportamentul arbitrilor\, prestaţia şi remuneraţia acestora vor fi analizate de către membri Comitetului Executiv de Arbitraj și Directorul de Arbitraj\, dl. Banea Ciprian – 5 dan. \nArbitrii care doresc să arbitreze (acreditați pe 2018) dar nu se încadrează la punctul 5.a.\, vor avea condițiile de masă cu ceilalți arbitri (fără cazare). \nÎn cazul în care numărul de arbitri înscriși de cluburi este mai mare decât numărul necesar de arbitri\, selecția acestora se va face de către Directorul de Arbitraj\, urmând să fie comunicată lista cluburilor până la data de 24.02.2018. \n\n6. Antrenori\nAntrenorii trebuie să fie îmbrăcaţi în trening\, pantofi sport şi să aibă prosop. \nNumai o singură persoană (antrenor / instructor) are voie să însoţească sportivul la spaţiul de luptă. Antrenorii cluburilor sportive vor desemna un instructor secund pentru a merge cu sportivul în cazul în care doi sportivi de la acelaşi club participă simultan la concurs.  \n\nD. Altele\n1. Recompense\nRecompense pentru fiecare categorie de greutate şi sex\, după cum urmează: \n\n\n 	Sportivii vor fi premiaţi cu diplome şi medalii pentru locurile I\, II şi III potrivit regulamantului;\n 	Se vor acorda Trofee pentru clasamentul general la: juniori III-II\, I și seniori\n\n2. Control doping\nFederaţia Română de Taekwon-do ITF va solicita antrenorilor să se prezinte cu sportivii la control doping conform solicitărilor ANAD. \n\n3. Cazare\nHOTEL SENECA*** Baia Mare – tel 0262/250431 (str. Margeanului nr. 11 B) – 100 locuri\n\n 	cazare în cameră dublă\, cu mic dejun – 55\,00 lei / persoană / zi\n 	cazare în cameră triplă\, cu mic dejun – 50\,00 lei / persoană / zi\n 	cazare în cameră cu 6-8 locuri\, cu mic dejun – 35\,00 lei / persoană/zi\n 	masa de prânz – 20\,00 lei / persoană\n 	masa de cină – 20\,00 lei / persoană\n\nHOTEL SPORT * Baia Mare – telefon 0262-224901 (88 locuri la 22 lei / persoana / zi) \nLocurile sunt dispuse in apartamente cu 2-3-4 camere astfel : 5 apartamente cu 6 locuri; 1 apartament cu 5 locuri; 6 apartamente cu 7 locuri; 2 apartamente cu 9 locuri. \nHOTEL MARA*** (vis a vis de locul de desfășurare a competiției): tel 0262/226660\, email: office@hotelmara.ro  \n\n\n 	cazare în cameră dublă\, cu mic dejun – 75\,00 lei / persoană / zi\n 	cazare în cameră triplă\, cu mic dejun – 60\,00 lei / persoană / zi\n\nRezervarile se fac de către fiecare club în parte. \n\n4. Alte informații\nLa festivitatea de premiere este obligatorie purtarea de încăltăminte sport și dobok / trening de către sportivi (nu se acceptă premierea în alt echipament). \nProgramul de concurs va fi postat pe site și comunicat cluburilor cel mai târziu în data de 01.03.2018. \nÎnscrierea cluburilor la competiție și cântarul sportivilor se vor face pe bază de programare\, urmând să fie consulate cluburile asupra orei sosirii în vederea stabilirii programului. \n \nREZULTATE\n\n\n\nDescarcă / Download\n\n 	CLASAMENTE-GENERALE-CAMPIONAT-NATIONAL-de-Taekwon-do-ITF-BAIA-MARE-2018\n 	Rezultate-JUN-III-II-I-SEN-CAMPIONAT-NATIONAL-de-Taekwon-do-ITF-BAIA-MARE-2018
URL:https://www.taekwondo-itf.ro/eveniment/campionatul-national-de-taekwon-do-itf-pentru-seniori-si-juniori-iii-ii-i-baia-mare-02-04-mar-2018/
LOCATION:Baia Mare\, Baia Mare\, Maramureș\, România
CATEGORIES:Campionat Național,Competiție
ATTACH;FMTTYPE=image/jpeg:https://www.taekwondo-itf.ro/wp-content/uploads/2017/12/afis_CN_TKD_Baia_Mare_2018_smaller.jpg
END:VEVENT
BEGIN:VEVENT
DTSTART;VALUE=DATE:20180328
DTEND;VALUE=DATE:20180407
DTSTAMP:20260423T152319
CREATED:20171224T200558Z
LAST-MODIFIED:20171224T202841Z
UID:3646-1522195200-1523059199@www.taekwondo-itf.ro
SUMMARY:STAGIUL DE PREGĂTIRE A LOTULUI NAȚIONAL\, BAIA MARE\, 28 MAR - 06 APR 2018
DESCRIPTION:
URL:https://www.taekwondo-itf.ro/eveniment/stagiul-de-pregatire-a-lotului-national-baia-mare-28-mar-06-apr-2018/
LOCATION:Hotel Seneca\, Str. Margeanului\, nr. 11B\, Baia Mare\, Maramureș\, 430014\, România
CATEGORIES:Stagiu
ORGANIZER;CN="FRTKD":MAILTO:secretary@taekwondo-itf.ro
END:VEVENT
END:VCALENDAR