BEGIN:VCALENDAR
VERSION:2.0
PRODID:-//Federația Română de Taekwon-do I.T.F. - ECPv6.15.18//NONSGML v1.0//EN
CALSCALE:GREGORIAN
METHOD:PUBLISH
X-WR-CALNAME:Federația Română de Taekwon-do I.T.F.
X-ORIGINAL-URL:https://www.taekwondo-itf.ro
X-WR-CALDESC:Evenimente pentru Federația Română de Taekwon-do I.T.F.
REFRESH-INTERVAL;VALUE=DURATION:PT1H
X-Robots-Tag:noindex
X-PUBLISHED-TTL:PT1H
BEGIN:VTIMEZONE
TZID:Europe/Bucharest
BEGIN:DAYLIGHT
TZOFFSETFROM:+0200
TZOFFSETTO:+0300
TZNAME:EEST
DTSTART:20170326T010000
END:DAYLIGHT
BEGIN:STANDARD
TZOFFSETFROM:+0300
TZOFFSETTO:+0200
TZNAME:EET
DTSTART:20171029T010000
END:STANDARD
BEGIN:DAYLIGHT
TZOFFSETFROM:+0200
TZOFFSETTO:+0300
TZNAME:EEST
DTSTART:20180325T010000
END:DAYLIGHT
BEGIN:STANDARD
TZOFFSETFROM:+0300
TZOFFSETTO:+0200
TZNAME:EET
DTSTART:20181028T010000
END:STANDARD
BEGIN:DAYLIGHT
TZOFFSETFROM:+0200
TZOFFSETTO:+0300
TZNAME:EEST
DTSTART:20190331T010000
END:DAYLIGHT
BEGIN:STANDARD
TZOFFSETFROM:+0300
TZOFFSETTO:+0200
TZNAME:EET
DTSTART:20191027T010000
END:STANDARD
END:VTIMEZONE
BEGIN:VEVENT
DTSTART;VALUE=DATE:20180823
DTEND;VALUE=DATE:20180829
DTSTAMP:20260423T080413
CREATED:20171224T201438Z
LAST-MODIFIED:20180824T100737Z
UID:3657-1534982400-1535500799@www.taekwondo-itf.ro
SUMMARY:STAGIUL NAȚIONAL DE VARĂ PENTRU INSTRUCTORI\, ANTRENORI\, ARBITRI ȘI SPORTIVI\, EFORIE NORD\, 23 - 28 AUG 2018
DESCRIPTION:Descarcă / Download\n\nInvitatie_stagiu_2018_Eforie  (.pdf)\nModel_examen_de_centura_1_2_3_dan
URL:https://www.taekwondo-itf.ro/eveniment/stagiu-national-de-vara-pentru-instructori-antrenori-arbitri-si-sportivi-constanta-23-28-aug-2018/
LOCATION:Eforie Nord\, Hotel Dunărea\, Eforie Nord\, România
CATEGORIES:Examen,Stagiu
ATTACH;FMTTYPE=image/jpeg:https://www.taekwondo-itf.ro/wp-content/uploads/2017/12/21106880_1941148236099635_6415856800919786270_n.jpg
END:VEVENT
END:VCALENDAR