BEGIN:VCALENDAR
VERSION:2.0
PRODID:-//Federația Română de Taekwon-do I.T.F. - ECPv6.15.18//NONSGML v1.0//EN
CALSCALE:GREGORIAN
METHOD:PUBLISH
X-WR-CALNAME:Federația Română de Taekwon-do I.T.F.
X-ORIGINAL-URL:https://www.taekwondo-itf.ro
X-WR-CALDESC:Evenimente pentru Federația Română de Taekwon-do I.T.F.
REFRESH-INTERVAL;VALUE=DURATION:PT1H
X-Robots-Tag:noindex
X-PUBLISHED-TTL:PT1H
BEGIN:VTIMEZONE
TZID:Europe/Bucharest
BEGIN:DAYLIGHT
TZOFFSETFROM:+0200
TZOFFSETTO:+0300
TZNAME:EEST
DTSTART:20170326T010000
END:DAYLIGHT
BEGIN:STANDARD
TZOFFSETFROM:+0300
TZOFFSETTO:+0200
TZNAME:EET
DTSTART:20171029T010000
END:STANDARD
BEGIN:DAYLIGHT
TZOFFSETFROM:+0200
TZOFFSETTO:+0300
TZNAME:EEST
DTSTART:20180325T010000
END:DAYLIGHT
BEGIN:STANDARD
TZOFFSETFROM:+0300
TZOFFSETTO:+0200
TZNAME:EET
DTSTART:20181028T010000
END:STANDARD
BEGIN:DAYLIGHT
TZOFFSETFROM:+0200
TZOFFSETTO:+0300
TZNAME:EEST
DTSTART:20190331T010000
END:DAYLIGHT
BEGIN:STANDARD
TZOFFSETFROM:+0300
TZOFFSETTO:+0200
TZNAME:EET
DTSTART:20191027T010000
END:STANDARD
END:VTIMEZONE
BEGIN:VEVENT
DTSTART;VALUE=DATE:20181025
DTEND;VALUE=DATE:20181029
DTSTAMP:20260423T052743
CREATED:20171224T202003Z
LAST-MODIFIED:20180905T170722Z
UID:3664-1540425600-1540771199@www.taekwondo-itf.ro
SUMMARY:IX European Taekwon-Do Cup 2018 and Mightyfist Taekwon-Do Cup for Children and Cadets\, SIBIU\, 25 - 28 OCT 2018
DESCRIPTION:Grandmasters\, Masters\, Instructors\, Competitors and Supporters\nWe are glad to inform that registration for the IX European Taekwon-Do Cup 2018 and International Taekwon-Do Cup for Children and Cadets\, to be held on 25th to 28th October 2018 in SIBIU\, Romania is now open. \nRegistration of the competitors will be coordinated by All Europe Taekwon-Do Federation. The registration will be performed only using the on-line system through the AETF website under following link: \nhttp://eurocup2018.pztkd.lublin.pl/registration.php \nCountries must apply for a login via the online registration system to receive access to the registration site. \nIf you need any help with accomodation\, transportation or oganisational matters please contact Mr. Ciprian Banea V Degree who is Contact Person of the Organizing Committee by his e-mail adress: cipi_banea@yahoo.com or by phone tel: 0040741996324 \nIf you will have any problems with online registration please contact AETF HQ by e-mail adress: eurocup2018@pztkd.lublin.pl \nPlease see the official invitation with all information about costs\, booking accommodation\, travel in file below or in file from calendar section of AETF website\, and make sure that you know all important dates for this event. \nIMPORTANT DATES\n15th August 2018 – First deadline for all reservations of accommodation\n15th August\, 2018 – Deadline for payment of 50% for accommodation\n20ty August 2018- deadline for umpire aplication (click to apply)\n30th August\, 2018 – Last date to make small changes in accommodation\n15th October\, 2018 – Deadline for the online registration\n22nd October\, 2018 – Publication of draws online \nWe look forward to see you in Sibiu\, Romania.\nAETF HQ \n  \nOriginal link: http://www.itfeurope.org/NL2018-02-14.html \nUmpire Application form: click here to apply \nFiles to download:files: 3 \nEuropean Cup 2018 – Invitation \nEuropean Cup 2018 – Accommodation form \nEuropean Cup 2018 – Banner \n 
URL:https://www.taekwondo-itf.ro/eveniment/cupa-europei-de-taekwon-do-itf-sibiu-25-28-oct-2018/
LOCATION:Sibiu\, Strada Sureanu 1\, Sibiu\, Sibiu\, România
CATEGORIES:Competiție,Cupă Internațională
ATTACH;FMTTYPE=image/jpeg:https://www.taekwondo-itf.ro/wp-content/uploads/2017/12/NL2018-02-14-banner.jpg
END:VEVENT
END:VCALENDAR