BEGIN:VCALENDAR
VERSION:2.0
PRODID:-//Federația Română de Taekwon-do I.T.F. - ECPv6.15.18//NONSGML v1.0//EN
CALSCALE:GREGORIAN
METHOD:PUBLISH
X-ORIGINAL-URL:https://www.taekwondo-itf.ro
X-WR-CALDESC:Evenimente pentru Federația Română de Taekwon-do I.T.F.
REFRESH-INTERVAL;VALUE=DURATION:PT1H
X-Robots-Tag:noindex
X-PUBLISHED-TTL:PT1H
BEGIN:VTIMEZONE
TZID:Europe/Bucharest
BEGIN:DAYLIGHT
TZOFFSETFROM:+0200
TZOFFSETTO:+0300
TZNAME:EEST
DTSTART:20170326T010000
END:DAYLIGHT
BEGIN:STANDARD
TZOFFSETFROM:+0300
TZOFFSETTO:+0200
TZNAME:EET
DTSTART:20171029T010000
END:STANDARD
BEGIN:DAYLIGHT
TZOFFSETFROM:+0200
TZOFFSETTO:+0300
TZNAME:EEST
DTSTART:20180325T010000
END:DAYLIGHT
BEGIN:STANDARD
TZOFFSETFROM:+0300
TZOFFSETTO:+0200
TZNAME:EET
DTSTART:20181028T010000
END:STANDARD
BEGIN:DAYLIGHT
TZOFFSETFROM:+0200
TZOFFSETTO:+0300
TZNAME:EEST
DTSTART:20190331T010000
END:DAYLIGHT
BEGIN:STANDARD
TZOFFSETFROM:+0300
TZOFFSETTO:+0200
TZNAME:EET
DTSTART:20191027T010000
END:STANDARD
END:VTIMEZONE
BEGIN:VEVENT
DTSTART;TZID=Europe/Bucharest:20181123T000000
DTEND;TZID=Europe/Bucharest:20181125T235900
DTSTAMP:20260423T035221
CREATED:20171224T202203Z
LAST-MODIFIED:20181101T164602Z
UID:3666-1542931200-1543190340@www.taekwondo-itf.ro
SUMMARY:CUPA ROMÂNIEI DE TAEKWON-DO ITF PENTRU SENIORI ȘI JUNIORI III\, II\, I\, DEVA\, 23 - 25 NOV 2018
DESCRIPTION:Federaţia Română de Taekwon-do I.T.F. şi Asociația Club Sportiv RED TIGERS Călan au deosebita plăcere şi onoare de a vă invita să participaţi la Cupa României de Taekwon-do I.T.F pentru juniori III\, II\, I și seniori\, în perioada 23-25 noiembrie 2018\, localitatea Deva\, județul Hunedoara. \n\n\n\nComitetul de organizare face eforturi deosebite pentru a vă oferi cele mai bune condiţii de întrecere aşteptând cu nerăbdare să întâmpine un număr cât mai mare de sportivi\, la acest eveniment sportiv. \n\n\n\nCu stimă şi consideraţie\, Preşedinte\, Cosmin Oprescu \n\n\n\n\n\n\n\nA. Informații generale\n\n\n\nOrganizatori\n\n\n\nFederaţia Română de Taekwon-do I.T.F.  Str. Bradului\, 15-A-12Loc. Călan\, Jud. HunedoaraTel: 0766.800.330Email: secretary@taekwondo-itf.roAsociația Club Sportiv RED TIGERS Călan Tel: 0787.709.486\, 0760.111.967Email: cristipopa_tkd@yahoo.com\, redtigerscalan@gmail.com\n\n\n\nData\n\n\n\n23-25 noiembrie 2018 \n\n\n\nLocul\n\n\n\nSala Sporturilor Deva\, Str. Mărăști\, nr.30\, Deva\, jud. Hunedoara \n\n\n\n\n\n\n\nB. Regulament\n\n\n\n1. Participanți\n\n\n\nStructurile sportive cu C.I.S. eliberat de M.T.S.\, afiliate la Federaţia Română de Taekwon-do I.T.F. şi cu taxele plătite pe anul 2018. \n\n\n\nParticipă numai sportivi legitimaţi şi cu gradele acordate de către Federaţia Română de Taekwon-do I.T.F.\, număr nelimitat de sportivi / categorie / club. \n\n\n\nGradele vor fi achitate în contul federaţiei până la data înscrierii în competiţie iar sportivii vor fi validaţi de către Comisia de Evidență a Membrilor și Înscriere. Pentru a evita eventualele neclarităţi rugăm preşedinţii cluburilor să trimită dovada plăţii şi tabelul cu sportivii promovaţi în grad\, pentru a putea fi validați în sistemul online\, pe adresa secretary@taekwondo-itf.ro. \n\n\n\nSportivii născuţi în anul 2000 sunt juniori (participă la juniori I chiar dacă au împlinit 18 ani) dar pot opta pentru a participa la seniori (nu la ambele!!) la probele individuale şi pe echipe. \n\n\n\nGradul minim admis:  \n\n\n\njuniori III\, II: 9 GUPjuniori I: 8 GUPseniori până în 35 ani: 6 GUPseniori peste 35 ani (old boys): 8 GUP\n\n\n\nLa probele de echipe juniori\, masculin şi feminin\, echipa este formată din 5 (minim 3) sportivi pe categorie și trebuie să fie conform categoriei de vârstă la care este înscrisă echipa.  \n\n\n\n2. Probele de concurs\n\n\n\nJUNIORI III-II (masculin şi feminin) TULL\, LUPTĂ\, TEHNICI SPECIALE și SPARGERI FORȚĂ ”dinamometru”\n\n\n\nTull (M/F): \n\n\n\n-6 ani\, -8 ani: o singură grupă-10 ani\, -12 ani\, -14 ani: două grupe\n9-6 GUP5-1 GUP\n\n\n\n\nTull echipe: (M/F) \n\n\n\nLuptă (M/F): \n\n\n\n-8 ani: -24 kg\, +24 kg–10 ani: -30 kg\, -35 kg\, -40 kg\, -45 kg\, +45 kg-12 ani: -30 kg\, -35 kg\, -40 kg\, -45 kg\, – 50 kg\, +50 kg-14 ani: -35 kg\, -40 kg\, -45 kg\, -50 kg\, -55 kg\, +55 kg\n\n\n\nNOTĂ: În cazul în care nu sunt înscriși minim 3 sportivi per categorie\, se comasează categoria mai mică la cea mai mare. \n\n\n\nTehnici speciale:  \n\n\n\nTwimyo nopi yop cha jirugi (-8 ani și -10 ani)Twimyo nopi chagi\, twimyo Nopi Yop Chagi si Twimyo Dollyo chagi (- 12 ani) Toate probele de la juniori I / seniori la (-14 ani)\n\n\n\nSpargeri Forță:  \n\n\n\nM/F: -8 ani\, -10 ani\, -12 ani\, -14 ani: Sonkal taerigi și dollyo chagi\n\n\n\nJUNIORI I\n\n\n\nPot participa şi sportivi juniori II cu 13 ani împliniţi dar fără proba de luptă și spargere de forţă individual şi echipă). \n\n\n\nSportivii care au împlinit 13 ani și 6 luni pot participa la luptă juniori I. \n\n\n\nTull individual masculin şi feminin: centuri colorate\, I DAN\, II DAN;Tull echipe masculin şi feminin (minim 5 sportivi juniori);Luptă individuală masculin: -50 kg; -56 kg; -62 kg; -68 kg; -75 kg; + 75 kg;Luptă individuală feminin: -45 kg; -50 kg; -55 kg; -60 kg; -65 kg; + 65 kg;Luptă echipe masculin şi feminin (minim 3 sportivi juniori / junioare);Spargeri forţă individual masculin şi feminin;Spargeri forţă echipe (minim 3 sportivi juniori / junioare);Tehnici speciale individual masculin şi feminin;Tehnici speciale echipe masculin şi feminin (minim 3 sportivi juniori / junioare) ;Luptă tradiţională: 2 Gup; echipa poate fi şi mixtă: masculin – feminin\, doar juniori (NU se plăteşte taxa de înscriere separat pentru această probă)\n\n\n\nSENIORI\n\n\n\nPot participa doar sportivii seniori. \n\n\n\nTull individual masculin şi feminin: centuri colorate\, centuri negre I DAN\, II DAN\, III DAN\, IV – V DANTull echipe masculin şi feminin (minim 5 sportivi seniori);Luptă individuală masculin : -57 kg; -63 kg; -70 kg; -78 kg; -85 kg; +85 kg;Luptă individuală feminin: -50 kg; -56 kg; -62 kg; -68 kg; -75 kg; +75 kg;Luptă echipe masculin şi feminin (minim 3 sportivi seniori);Spargeri forţă individual masculin şi feminin;Spargeri forţă echipe (minim 3 sportivi seniori);Tehnici speciale individual masculin şi feminin;Tehnici speciale echipe masculin şi feminin (minim 3 sportivi seniori);Luptă tradiţională: gradul minim 2 Gup. Echipa poate fi mixtă: masculin-feminin (NU se plăteşte taxa de înscriere separat pentru această probă).\n\n\n\nLUPTA OLD-BOYS (peste 35 ani) două categorii: -75 kg; +75 kg (în cazul în care nu sunt cel puțin 3 participanți / categorie\, se pot reuni cele două categorii). \n\n\n\n\n\n\n\nTEHNICI SPECIALE MASCULIN \n\n\n\nTEHNICAJUNIORI ISENIORITWIMYO NOPI AP CHA BUSIGI250 cm260 cmTWIMYO DOLLYO CHAGI230 cm240 cmTWIMYO BANDAE DOLLYO CHAGI210 cm220 cmTWIMYO DOLMYO YOP CHA JIRUGI210 cm220 cmTWIMYO NOPI YOP CHA JIRUGI130 cm140 cm\n\n\n\n\n\n\n\nTEHNICI SPECIALE FEMININ \n\n\n\nTEHNICAJUNIOARE ISENIOARETWIMYO NOPI AP CHA BUSIGI210 cm220 cmTWIMYO DOLLYO CHAGI200 cm210 cmTWIMYO NOPI YOP CHA JIRUGI110 cm120 cm\n\n\n\n\n\n\n\nSPARGERI FORŢĂ MASCULIN \n\n\n\nTEHNICAJUNIORISENIORIAP-JOOMUK JIRUGI23SONKAL TAERIGI23YOP CHA JIRUGI34DOLLYO CHAGI23BANDAE DOLLYO CHAGI23\n\n\n\n\n\n\n\nSPARGERI FORŢĂ FEMININ \n\n\n\nTEHNICAJUNIOARESENIOARESONKAL TAERIGI12YOP CHA JIRUGI23DOLLYO CHAGI12\n\n\n\n3. Echipamentul sportivilor\n\n\n\nEchipamentul oficial este cel omologat şi aprobat de FRTKD ITF\, A.E.T.F și I.T.F.\n\n\n\nEchipamentul fiecărui sportiv va fi verificat de un arbitru desemnat la intrarea acestuia pe suprafaţa de competiţie.\n\n\n\nSportivii vor avea acces la suprafaţa de concurs doar însoţiţi de un instructor sau antrenor de taekwon-do ITF\, pe baza cardului\, fiind echipaţi în culoarea colţului\, cu 2 minute înainte de începerea meciului\, conform grilelor de concurs.\n\n\n\n4. Contestații\n\n\n\nSe fac pe baza regulamentului de arbitraj. În cazul contestaţiei\, antrenorul trebuie să prezinte banii şi să completeze formularul de contestaţie pe loc\, la masa Jury President a ringului respectiv\, în maxim 5 minute de la terminarea întâlnirii în cauză. \n\n\n\n5. Cântarul\n\n\n\nCântărirea sportivilor va fi făcută la înscriere vineri\, 23.11.2018\, de la ora 16h30 până la ora 19h00 la HOTEL SARMIS\, Str. Mareșal Averescu\, Nr. 7\, Deva\, jud. Hunedoara sau în mod excepțional sâmbătă\, 24.11.2018 la ora 08h30\, la Sala Sporturilor Deva\, Str. Mărăști\, Nr. 30\, Deva\, jud. Hunedoara. \n\n\n\nLA CÂNTAR NU ESTE ADMISĂ DEPĂŞIREA LIMITEI MAXIME A CATEGORIEI! \n\n\n\nLa cântar sportivii se vor prezenta în pantaloni de dobok şi tricou (acestea însumând 0\,500 kg\, care vor fi scăzute). \n\n\n\nSportivii care la cântar depăşesc limita de greutate au la dispoziţie 1 oră (doar în ziua de vineri) de la primul cântar oficial pentru a confirma categoria. Dacă la al doilea cântar oficial\, vinerea\, sportivii nu se încadreză în categoria la care au fost înscrişi\, aceştia vor fi retraşi din categoria acestora. \n\n\n\n\n\n\n\nC. Înscriere\n\n\n\n1. Componența echipelor\n\n\n\nFiecare delegaţie poate fi alcătuită din: \n\n\n\n1 conducător delegaţie1 sau mai mulți antrenori și / sau instructorisportivi competitori – juniori III\, II\, I şi seniori (masculin şi feminin)1 sau mai mulți arbitri acreditaţi\n\n\n\n2. Cluburi eligibile pentru participare\n\n\n\nÎnscrierea sportivilor\, arbitrilor\, instructorilor în competiţie se va face online\, fiecare conducător de delegație primind în prealabil acces pe bază de utilizator și parolă la sistemul electronic de înscriere. \n\n\n\nFinalizarea înscrierilor va avea loc vineri\, 23.11.2018\, de la ora 16h30\, până la ora 19h00 la HOTEL SARMIS\, Str. Mareșal Averescu\, Nr. 7\, Deva\, jud. Hunedoara\, conform programului de prezentare la înscriere care va fi anunțat până la această dată. \n\n\n\nÎnscrierea se va face de către 1 antrenor / instructor de la clubul respectiv. Antrenorul / instructorul va verifica fişele de înscriere în competiţie scoase din sistemul online\, fişele de legitimare\, tabelele centralizatoare şi carnetele de legitimare completate și cu pozele lipite\, puse în ordinea înscrierii sportivilor pe fişe şi va achita taxele de competiţie. \n\n\n\nVor fi verificate legitimările care trebuie să conţină: viza anuală de sportiv\, viză medicală eliberată de policlinica sportivă pe a doua parte a anului 2018\, gradul sportivului care trebuie să coincidă cu cel înregistrat la Federaţie în sistemul online. \n\n\n\nÎn cazul noilor legitimări\, acestea vor prezentate conform cerinţelor concursurilor anterioare. Fiecare club va avea tabelul nominal care va cuprinde toţi sportivii ce urmează a fi legitimaţi. Toate tipurile de fişe pot fi găsite pe pagina web a federaţiei. Orice omisiune a acestora nu permite înscrierea sportivilor în cauză în concurs. \n\n\n\nOrice litigiu se va lămuri cu oricare din membrii Comisiei de Evidență a Membrilor și Înscriere. \n\n\n\nNotă: \n\n\n\nConducătorii delegaţiilor au obligaţia ca la înscrierea în competiţie conform programului să prezinte tabelul cu responsabilitatea accidentelor. \n\n\n\nLa categoria oficiali\, pentru poziţiile antrenor sau instructor\, nu pot fi înscrise persoane ce nu deţin această calitate.\n\n\n\n3. Data limită\n\n\n\nCluburile vor solicita cazarea pentru arbitri (conform numărului de sportivi înscriși) până în data de 07.11.2018 pe adresa: cristipopa_tkd@yahoo.com. Arbitrii care nu și-au făcut rezervarea până la această dată își vor suporta cheltuielile de cazare și masă. Persoana de contact: Cristinel Popa\, tel. 0787.709.486 \n\n\n\nÎnscrierea în sistemul online se va face până luni\, 19.11.2018\, ora 21:00. După aceast termen\, sistemul va bloca automat procesul de înscriere și nu se vor mai putea face modificări. Operarea înscrierilor în sistemul online poate lua un timp considerabil\, ținând cont de numărul de persoane înscrise\, sunt necesare încărcări de fotografii pentru fiecare persoană înscrisă. NU VĂ BAZAȚI PE ULTIMA ZI!!! \n\n\n\nModificări: \n\n\n\nSe acceptă doar modificările pe grile (eventuale erori apărute la introducerea sportivilor în sistem)\, în 20.11.2018\, prin semnalarea acestora pe email la adresa secretary@taekowndo-itf.ro După data limită de verificare (20.11.2018\, ora 21h00)\, nu se mai accepta nici o modificare.\n\n\n\nTragerile la sorţi vor fi efectuate electronic în sistem online de către domnul Secretar Federal Popa Cristian în data de marți\, 20.11.2018 la ora 22h00. Orice nelămurire legată de tragerea la sorti se va dezbate la ședința tehnică\, după înscrierea cluburilor\, la Deva\, vineri\, 23.11.2018\, ora 19h00. \n\n\n\n4. Taxe de participare\n\n\n\ntaxă de participare sportiv la toate probele: 50 lei / sportiv ( indiferent la câte probe concurează)\n\n\n\ntaxă de participare echipă: 10 lei / persoană / echipă (indiferent că echipa participă la o probă sau 4 probe) – juniori III\,II\, I\, seniori\, masculin\, feminin \n\n\n\ntaxa arbitraj: fără arbitru 300 lei / club\, cluburi cu 1 arbitru – 100 lei / club\, cluburi cu minim 2 arbitri – 70 lei / club.\n\n\n\nÎn situația în care sunt cluburi care nu au achitat taxele anuale și doresc să participe la campionat\, trebuie să achite taxele prezentate pe pagina www.taekwondo-itf.ro.\n\n\n\nCluburile participante trebuie sã asigure: 1 arbitru / club pentru cluburile care au între 1 până la 10 sportivi\, 2 arbitri pentru cluburile care au între 11 până la 20 sportivi și 3 arbitri pentru cluburile care au peste 20 de sportivi.\n\n\n\nToate taxele vor fi facturate după tragerea la sorți online în data de 20.11.2018 iar cluburile vor fi obligate să achite sumele stabilite pentru sportivii înscriși (se achită sumele chiar și pentru spotivii retrași după data de 20.11.2018). \n\n\n\n5. Arbitraj\n\n\n\nOrganizatorul local va plăti cazarea pentru 1 ARBITRU / club pentru cluburile care înscriu în competitie până la 10 sportivi\, 2 ARBITRI / club pentru cluburile care încriu 11-19 sportivi în concurs și 3 ARBITRI / club pentru cluburile care încriu 20-30 sportivi în concurs. Arbitrii vor fi din cei acreditați de către federaţie pentru anul competitional 2018. Cazarea arbitrilor va începe de vineri 23.11.2018 orele 14h00 pânã duminică 25.11.2018 orele 12h00 la Hotel Sarmis\, Deva. \n\n\n\nCluburile vor solicita cazarea pentru arbitri (conform numărului de sportivi înscrişi) până în data de 07.11.2018. Arbitrii care nu și-au făcut rezervarea până la această dată își vor suporta cheltuielile de cazare și masă. \n\n\n\nArbitrii au obligaţia să participe la şedinţa de arbitraj – vineri 23.11.2018\, ÎN COSTUM DE ARBITRU\, aproximativ orele 20h00 la Hotel Sarmis\, Str. Mareșal Averescu\, Nr. 7\, Deva\, Jud. Hunedoara. Cei care nu sunt prezenţi la sedinţa de arbitraj\, vor fi excluşi de pe lista arbitrilor şi vor pierde drepturile de cazare. \n\n\n\nVor avea ţinuta regulamentară de arbitru I.T.F. Cei care nu au ţinută regulamentară vor fi excluşi\, pierzându-şi drepturile de arbitraj (cazare\, plată). Arbitrii acceptaţi sunt cei de pe lista arbitrilor acreditaţi şi validaţi de Federaţia Română de Taekwon-Do I.T.F\, actualizată pe anul 2018\, după Stagiul de la Baia Mare 2018. Comportamentul arbitrilor\, prestaţia şi remuneraţia acestora vor fi analizate de către membri Comitetului Executiv de Arbitraj și Directorul de Arbitraj\, dl. Banea Ciprian – 5 dan. \n\n\n\nArbitrii care doresc să arbitreze (acreditați pe 2018) dar nu se încadrează la paragraful 1\, vor avea condițiile de masă cu ceilalți arbitri (fără cazare). \n\n\n\nÎn cazul în care numărul de arbitri înscriși de cluburi este mai mare decât numărul necesar de arbitri\, selecția acestora se va face de către Directorul de Arbitraj\, urmând să fie comunicată lista cluburilor până la data de 20.11.2018. \n\n\n\n6. Antrenori\n\n\n\nAntrenorii trebuie să fie îmbrăcaţi în trening\, pantofi sport şi să aibă prosop. \n\n\n\nNumai o singură persoană (antrenor / instructor) are voie să însoţească sportivul la spaţiul de luptă. Antrenorii cluburilor sportive vor desemna un instructor secund pentru a merge cu sportivul în cazul în care doi sportivi de la acelaşi club participă simultan la concurs.  \n\n\n\n\n\n\n\nD. Altele\n\n\n\n1. Recompense\n\n\n\nRecompense pentru fiecare categorie de greutate şi sex\, după cum urmează: \n\n\n\nSportivii vor fi premiaţi cu diplome şi medalii pentru locurile I\, II şi III potrivit regulamantului;\n\n\n\nSe vor acorda Trofee pentru clasamentul general la: juniori III-II\, I și seniori\n\n\n\n2. Control doping\n\n\n\nFederaţia Română de Taekwon-do ITF va solicita antrenorilor să se prezinte cu sportivii la control doping conform solicitărilor ANAD. \n\n\n\n3. Cazare\n\n\n\nHOTEL SARMIS*** Deva\, Str. Mareșal Averescu\, Nr. 7\, Deva\, tel: 0254.214.731\, mobil: 0723.698.854\, e-mail: sarmis.deva@unita-turism.ro \n\n\n\ncameră dublă: 111\,00 lei / noapte\n\n\n\ncameră single: 86\,00 lei / noapte\n\n\n\nopțional mic dejun: 16 lei / pers / zi\n\n\n\nHOTEL DEVA** Deva \n\n\n\ncameră dublă: 86\,00 lei / noaptecameră single: 67\,00 lei / noaptecameră triplă: 129\,00 lei / noapteopțional mic dejun: 16 lei / pers / zi\n\n\n\nRezervarile se fac de către fiecare club în parte. \n\n\n\n4. Alte informații\n\n\n\nLa festivitatea de premiere este obligatorie purtarea de încăltăminte sport și dobok / trening de către sportivi (nu se acceptă premierea în alt echipament). \n\n\n\nProgramul de concurs va fi postat pe site și comunicat cluburilor cel mai târziu în data de 21.11.2018. \n\n\n\nÎnscrierea cluburilor la competiție și cântarul sportivilor se vor face pe bază de programare\, urmând să fie consulate cluburile asupra orei sosirii în vederea stabilirii programului.
URL:https://www.taekwondo-itf.ro/eveniment/cupa-romaniei-de-taekwon-do-itf-pentru-seniori-si-juniori-iii-ii-i-deva-23-25-nov-2018/
LOCATION:Deva\, Deva\, Hunedoara\, România
CATEGORIES:Adunare Generală,Competiție,Cupă Națională
ATTACH;FMTTYPE=image/jpeg:https://www.taekwondo-itf.ro/wp-content/uploads/2017/12/afis-1.jpg
ORGANIZER;CN="ACS RED TIGERS - C%C4%83lan":MAILTO:redtigerscalan@gmail.com
END:VEVENT
END:VCALENDAR