BEGIN:VCALENDAR
VERSION:2.0
PRODID:-//Federația Română de Taekwon-do I.T.F. - ECPv6.15.18//NONSGML v1.0//EN
CALSCALE:GREGORIAN
METHOD:PUBLISH
X-WR-CALNAME:Federația Română de Taekwon-do I.T.F.
X-ORIGINAL-URL:https://www.taekwondo-itf.ro
X-WR-CALDESC:Evenimente pentru Federația Română de Taekwon-do I.T.F.
REFRESH-INTERVAL;VALUE=DURATION:PT1H
X-Robots-Tag:noindex
X-PUBLISHED-TTL:PT1H
BEGIN:VTIMEZONE
TZID:Europe/Bucharest
BEGIN:DAYLIGHT
TZOFFSETFROM:+0200
TZOFFSETTO:+0300
TZNAME:EEST
DTSTART:20180325T010000
END:DAYLIGHT
BEGIN:STANDARD
TZOFFSETFROM:+0300
TZOFFSETTO:+0200
TZNAME:EET
DTSTART:20181028T010000
END:STANDARD
BEGIN:DAYLIGHT
TZOFFSETFROM:+0200
TZOFFSETTO:+0300
TZNAME:EEST
DTSTART:20190331T010000
END:DAYLIGHT
BEGIN:STANDARD
TZOFFSETFROM:+0300
TZOFFSETTO:+0200
TZNAME:EET
DTSTART:20191027T010000
END:STANDARD
BEGIN:DAYLIGHT
TZOFFSETFROM:+0200
TZOFFSETTO:+0300
TZNAME:EEST
DTSTART:20200329T010000
END:DAYLIGHT
BEGIN:STANDARD
TZOFFSETFROM:+0300
TZOFFSETTO:+0200
TZNAME:EET
DTSTART:20201025T010000
END:STANDARD
END:VTIMEZONE
BEGIN:VEVENT
DTSTART;TZID=Europe/Bucharest:20190118T180000
DTEND;TZID=Europe/Bucharest:20190120T140000
DTSTAMP:20260423T004142
CREATED:20181209T210813Z
LAST-MODIFIED:20190118T125903Z
UID:3918-1547834400-1547992800@www.taekwondo-itf.ro
SUMMARY:STAGIUL NAȚIONAL PENTRU ARBITRI ȘI ANTRENORI\, SIBIU\, 18-20 IAN 2019
DESCRIPTION:Descarcă / Download\n\nInvitatie_stagiu_arbitraj_si_instructori_2019 Sibiu (.pdf)\nOrdine de zi propusa AG Sibiu ian 2019 (.pdf)\nPROGRAMUL COMISIEI TEHNICE 2019 -Sibiu (.docx)\nProgram Stagiu arbitraj Sibiu 2018 (.doc)
URL:https://www.taekwondo-itf.ro/eveniment/stagiul-national-pentru-arbitri-si-antrenori-sibiu-18-20-ian-2019/
LOCATION:Sibiu\, Sala PUMA\, Bd-ul Victoriei\, nr 42\, et 1\, Sibiu\, Sibiu\, România
CATEGORIES:Adunare Generală,Birou Federal,Stagiu
ATTACH;FMTTYPE=image/jpeg:https://www.taekwondo-itf.ro/wp-content/uploads/2018/12/afis.jpeg
ORGANIZER;CN="FRTKD":MAILTO:secretary@taekwondo-itf.ro
END:VEVENT
END:VCALENDAR