BEGIN:VCALENDAR
VERSION:2.0
PRODID:-//Federația Română de Taekwon-do I.T.F. - ECPv6.15.18//NONSGML v1.0//EN
CALSCALE:GREGORIAN
METHOD:PUBLISH
X-WR-CALNAME:Federația Română de Taekwon-do I.T.F.
X-ORIGINAL-URL:https://www.taekwondo-itf.ro
X-WR-CALDESC:Evenimente pentru Federația Română de Taekwon-do I.T.F.
REFRESH-INTERVAL;VALUE=DURATION:PT1H
X-Robots-Tag:noindex
X-PUBLISHED-TTL:PT1H
BEGIN:VTIMEZONE
TZID:Europe/Bucharest
BEGIN:DAYLIGHT
TZOFFSETFROM:+0200
TZOFFSETTO:+0300
TZNAME:EEST
DTSTART:20180325T010000
END:DAYLIGHT
BEGIN:STANDARD
TZOFFSETFROM:+0300
TZOFFSETTO:+0200
TZNAME:EET
DTSTART:20181028T010000
END:STANDARD
BEGIN:DAYLIGHT
TZOFFSETFROM:+0200
TZOFFSETTO:+0300
TZNAME:EEST
DTSTART:20190331T010000
END:DAYLIGHT
BEGIN:STANDARD
TZOFFSETFROM:+0300
TZOFFSETTO:+0200
TZNAME:EET
DTSTART:20191027T010000
END:STANDARD
BEGIN:DAYLIGHT
TZOFFSETFROM:+0200
TZOFFSETTO:+0300
TZNAME:EEST
DTSTART:20200329T010000
END:DAYLIGHT
BEGIN:STANDARD
TZOFFSETFROM:+0300
TZOFFSETTO:+0200
TZNAME:EET
DTSTART:20201025T010000
END:STANDARD
END:VTIMEZONE
BEGIN:VEVENT
DTSTART;TZID=Europe/Bucharest:20190301T150000
DTEND;TZID=Europe/Bucharest:20190303T180000
DTSTAMP:20260422T214424
CREATED:20190206T202829Z
LAST-MODIFIED:20190211T230412Z
UID:3999-1551452400-1551636000@www.taekwondo-itf.ro
SUMMARY:CAMPIONATUL NAȚIONAL DE TAEKWON-DO ITF PENTRU SENIORI ȘI JUNIORI III\, II\, I\, BAIA MARE\, 01-03 MAR 2019
DESCRIPTION:Federaţia Română de Taekwon-do I.T.F. şi Clubul Sportiv Martial Arts Dojo Baia Mare au deosebita plăcere şi onoare de a vă invita să participaţi la Campionatul Național de Taekwon-do I.T.F pentru juniori III\, II\, I și seniori\, în perioada 1-3 martie 2019\, localitatea Baia Mare\, județul Maramureș. \nComitetul de organizare face eforturi deosebite pentru a vă oferi cele mai bune condiţii de întrecere aşteptând cu nerăbdare să întâmpine un număr cât mai mare de sportivi\, la acest eveniment sportiv. \nCu stimă şi consideraţie\,  Preşedinte\,  Cosmin Oprescu  \nA. Informații generale\nOrganizatori\n\n\n\n\nFederaţia Română de Taekwon-do I.T.F. Str. Bradului\, 15-A-12  Loc. Călan\, Jud. Hunedoara  Tel: 0766.800.330  Email: president@taekwondo-itf.ro\n\n\n \nClubul Sportiv Martial Arts Dojo Baia Mare Tel:0743.400.207 Email: csmadtkd@gmail.com\n\n\n\nData\n1-3 martie 2019 \nLocul\nSala Sporturilor „Lascăr Pană” din Baia Mare\, jud. Maramureș  \nB. Regulament\n1. Participanți\nStructurile sportive cu C.I.S. eliberat de M.T.S.\, afiliate la Federaţia Română de Taekwon-do I.T.F. şi cu taxele plătite pe anul 2019. \nParticipă numai sportivi legitimaţi şi cu gradele acordate de către Federaţia Română de Taekwon-do I.T.F.\, număr nelimitat de sportivi / categorie / club. \nGradele vor fi achitate în contul federaţiei până la data înscrierii în competiţie iar sportivii vor fi validaţi de către Comisia de Evidență a Membrilor și Înscriere. Pentru a evita eventualele neclarităţi rugăm preşedinţii cluburilor să trimită dovada plăţii şi tabelul cu sportivii promovaţi în grad\, pentru a putea fi validați în sistemul online\, pe adresa secretary@taekwondo-itf.ro. \nSportivii născuţi în anul 2001 sunt juniori (participă la juniori I chiar dacă au împlinit 18 ani) dar pot opta pentru a participa la seniori (nu la ambele!!) la probele individuale şi pe echipe. \nGradul minim admis:  \n\njuniori III\, II: 9 GUP\njuniori I: 8 GUP\nseniori: 6 GUP\n\nLa probele de echipe juniori\, masculin şi feminin\, echipa este formată din 5 (minim 3) sportivi pe categorie și trebuie să fie conform categoriei de vârstă la care este înscrisă echipa.  \n2. Probele de concurs\nJUNIORI III-II (masculin şi feminin) TULL\, LUPTĂ\, TEHNICI SPECIALE și SPARGERI FORȚĂ ”dinamometru”\nTull (M/F): \n\n-6 ani\, -8 ani: o singură grupă\n-10 ani\, -12 ani\, -14 ani: două grupe\n\n9-6 GUP\n5-1 GUP\n\n\n\nTull echipe: (M/F) Luptă (M/F): \n\n-8 ani: -24 kg\, +24 kg\n–10 ani: -30 kg\, -35 kg\, -40 kg\, -45 kg\, +45 kg\n-12 ani: -30 kg\, -35 kg\, -40 kg\, -45 kg\, – 50 kg\, +50 kg\n-14 ani: -35 kg\, -40 kg\, -45 kg\, -50 kg\, -55 kg\, +55 kg \n\nNOTĂ: În cazul în care nu sunt înscriși minim 3 sportivi per categorie\, se comasează categoria mai mică la cea mai mare. Tehnici speciale:  \n\nTwimyo nopi yop cha jirugi (-8 ani și -10 ani)\nTwimyo nopi chagi\, twimyo Nopi Yop Chagi si Twimyo Dollyo chagi (- 12 ani) \nToate probele de la juniori I / seniori la (-14 ani)\n\nSpargeri Forță:  \n\nM/F: -8 ani\, -10 ani\, -12 ani\, -14 ani: Sonkal taerigi și dollyo chagi\n\nJUNIORI I\nPot participa şi sportivi juniori II cu 13 ani împliniţi dar fără proba de luptă și spargere de forţă individual şi echipă). Sportivii care au împlinit 13 ani și 6 luni pot participa la luptă juniori I. \n\nTull individual masculin şi feminin: centuri colorate\, I DAN\, II DAN;\nTull echipe masculin şi feminin (minim 5 sportivi juniori);\nLuptă individuală masculin: -50 kg; -56 kg; -62 kg; -68 kg; -75 kg; + 75 kg;\nLuptă individuală feminin: -45 kg; -50 kg; -55 kg; -60 kg; -65 kg; + 65 kg;\nLuptă echipe masculin şi feminin (minim 3 sportivi juniori / junioare);\nSpargeri forţă individual masculin şi feminin;\nSpargeri forţă echipe (minim 3 sportivi juniori / junioare);\nTehnici speciale individual masculin şi feminin;\nTehnici speciale echipe masculin şi feminin (minim 3 sportivi juniori / junioare) ;\nLuptă tradiţională: 2 Gup; echipa poate fi şi mixtă: masculin – feminin\, doar juniori (NU se plăteşte taxa de înscriere separat pentru această probă)\n\nSENIORI\nPot participa doar sportivii seniori. \n\nTull individual masculin şi feminin: centuri colorate\, centuri negre I DAN\, II DAN\, III DAN\, IV – V DAN\nTull echipe masculin şi feminin (minim 5 sportivi seniori);\nLuptă individuală masculin : -57 kg; -63 kg; -70 kg; -78 kg; -85 kg; +85 kg;\nLuptă individuală feminin: -50 kg; -56 kg; -62 kg; -68 kg; -75 kg; +75 kg;\nLuptă echipe masculin şi feminin (minim 3 sportivi seniori);\nSpargeri forţă individual masculin şi feminin;\nSpargeri forţă echipe (minim 3 sportivi seniori);\nTehnici speciale individual masculin şi feminin;\nTehnici speciale echipe masculin şi feminin (minim 3 sportivi seniori);\nLuptă tradiţională: gradul minim 2 Gup. Echipa poate fi mixtă: masculin-feminin (NU se plăteşte taxa de înscriere separat pentru această probă).\n\nLUPTA OLD-BOYS (peste 35 ani) două categorii: -75 kg; +75 kg (în cazul în care nu sunt cel puțin 3 participanți / categorie\, se pot reuni cele două categorii).  TEHNICI SPECIALE MASCULIN \n\n\n\nTEHNICA\nJUNIORI I\nSENIORI\n\n\nTWIMYO NOPI AP CHA BUSIGI\n250 cm\n260 cm\n\n\nTWIMYO DOLLYO CHAGI\n230 cm\n240 cm\n\n\nTWIMYO BANDAE DOLLYO CHAGI\n210 cm\n220 cm\n\n\nTWIMYO DOLMYO YOP CHA JIRUGI\n210 cm\n220 cm\n\n\nTWIMYO NOPI YOP CHA JIRUGI\n130 cm\n140 cm\n\n\n\n TEHNICI SPECIALE FEMININ \n\n\n\nTEHNICA\nJUNIOARE I\nSENIOARE\n\n\nTWIMYO NOPI AP CHA BUSIGI\n210 cm\n220 cm\n\n\nTWIMYO DOLLYO CHAGI\n200 cm\n210 cm\n\n\nTWIMYO NOPI YOP CHA JIRUGI\n110 cm\n120 cm\n\n\n\n SPARGERI FORŢĂ MASCULIN \n\n\n\nTEHNICA\nJUNIORI\nSENIORI\n\n\nAP-JOOMUK JIRUGI\n2\n3\n\n\nSONKAL TAERIGI\n2\n3\n\n\nYOP CHA JIRUGI\n3\n4\n\n\nDOLLYO CHAGI\n2\n3\n\n\nBANDAE DOLLYO CHAGI\n2\n3\n\n\n\n SPARGERI FORŢĂ FEMININ \n\n\n\nTEHNICA\nJUNIOARE\nSENIOARE\n\n\nSONKAL TAERIGI\n1\n2\n\n\nYOP CHA JIRUGI\n2\n3\n\n\nDOLLYO CHAGI\n1\n2\n\n\n\n3. Echipamentul sportivilor\n\nEchipamentul oficial este cel omologat şi aprobat de FRTKD ITF\, A.E.T.F și I.T.F.\nEchipamentul fiecărui sportiv va fi verificat de un arbitru desemnat la intrarea acestuia pe suprafaţa de competiţie.\nSportivii vor avea acces la suprafaţa de concurs doar însoţiţi de un instructor sau antrenor de taekwon-do ITF\, pe baza cardului\, fiind echipaţi în culoarea colţului\, cu 2 minute înainte de începerea meciului\, conform grilelor de concurs.\n\n4. Contestații\nSe fac pe baza regulamentului de arbitraj. În cazul contestaţiei\, antrenorul trebuie să prezinte banii şi să completeze formularul de contestaţie pe loc\, la masa Jury President a ringului respectiv\, în maxim 5 minute de la terminarea întâlnirii în cauză. \n5. Cântarul\nCântărirea sportivilor va fi făcută la înscriere vineri\, 1 martie 2019\, de la ora 16.30 până la ora 19.00 la Sala de conferință a Centrului Național Olimpic (Fosta clădire DJS)\, lângă Sala Polivalentă\, sau în mod excepțional sâmbătă\, 02.03.2019 la ora 08.30\, la Sala Sporturilor Lascăr Pană din Baia Mare. \nLA CÂNTAR NU ESTE ADMISĂ DEPĂŞIREA LIMITEI MAXIME A CATEGORIEI! \nLa cântar sportivii se vor prezenta în pantaloni de dobok şi tricou (acestea însumând 0\,500 kg\, care vor fi scăzute). \nSportivii care la cântar depăşesc limita de greutate au la dispoziţie 1 oră (doar în ziua de vineri) de la primul cântar oficial pentru a confirma categoria. Dacă la al doilea cântar oficial\, vinerea\, sportivii nu se încadreză în categoria la care au fost înscrişi\, aceştia vor fi retraşi din categoria acestora. \n \nC. Înscriere\n1. Componența echipelor\nFiecare delegaţie poate fi alcătuită din: \n\n1 conducător delegaţie\n1 sau mai mulți antrenori / instructori\nsportivi competitori – juniori III\, II\, I şi seniori (masculin şi feminin)\n1 arbitru (sau mai mulţi) acreditaţi pe anul 2019 în urma stagiului de la Sibiu\, 18-20 ianuarie 2019.\n\n2. Cluburi eligibile pentru participare\nÎnscrierea sportivilor\, arbitrilor\, instructorilor în competiţie se va face online\, fiecare conducător de delegație primind în prealabil acces pe bază de utilizator și parolă la sistemul electronic de înscriere. \nFinalizarea înscrierilor va avea loc vineri\, 1 martie 2019\, de la ora 16.00\, până la ora 19.00 la Sala de conferință a Centrului Național Olimpic (Fosta clădire DJS)\, lângă Sala Polivalentă\, conform programului de prezentare la înscriere care va fi anunțat până la această dată. \nÎnscrierea se va face de către 1 antrenor / instructor de la clubul respectiv. Antrenorul / instructorul va verifica fişele de înscriere în competiţie scoase din sistemul online\, fişele de legitimare\, tabelele centralizatoare şi carnetele de legitimare completate și cu pozele lipite\, puse în ordinea înscrierii sportivilor pe fişe şi va achita taxele de competiţie. \nVor fi verificate legitimările care trebuie să conţină: viza anuală de sportiv\, viză medicală eliberată de policlinica sportivă pe prima parte a anului 2019\, gradul sportivului care trebuie să coincidă cu cel înregistrat la Federaţie. \nÎn cazul noilor legitimări\, acestea vor prezentate conform cerinţelor concursurilor anterioare. Fiecare club va avea tabelul nominal care va cuprinde toţi sportivii ce urmează a fi legitimaţi. Toate tipurile de fişe pot fi găsite pe pagina web a federaţiei. Orice omisiune a acestora nu permite înscrierea sportivilor în cauză în concurs. \nOrice litigiu se va lămuri cu oricare din membrii Comisiei de Evidență a Membrilor și Înscriere. \nNotă: \n\nConducătorii delegaţiilor au obligaţia ca la înscrierea în competiţie conform programului să prezinte tabelul cu responsabilitatea accidentelor. \nLa categoria oficiali\, pentru poziţiile antrenor sau instructor\, nu pot fi înscrise persoane ce nu deţin această calitate.\n\n3. Data limită\nCluburile vor solicita cazarea pentru arbitri (conform numărului de sportivi înscriși) până în data de 20 februarie 2019 pe adresa: csmadtkd@gmail.com. Arbitrii care nu și-au făcut rezervarea până la această dată își vor suporta cheltuielile de cazare și masă. \nÎnscrierea în sistemul online se va face până la 26 februarie 2019\, ora 21:00. După aceast termen\, sistemul va bloca automat procesul de înscriere și nu se vor mai putea face modificări. Operarea înscrierilor în sistemul online poate lua un timp considerabil\, ținând cont de numărul de persoane înscrise\, sunt necesare încărcări de fotografii pentru fiecare persoană înscrisă. NU VĂ BAZAȚI PE ULTIMA ZI!!! \nModificări: \n\nSe acceptă doar modificările pe grile (eventuale erori apărute la introducerea sportivilor în sistem)\, în 27 februarie 2019\, prin semnalarea acestora pe email la adresa secretary@taekowndo-itf.ro \nDupă data limită de verificare (27 februarie 2019\, ora 21.00)\, nu se mai accepta nici o modificare.\n\nTragerile la sorţi vor fi efectuate electronic în sistem online de către domnul Secretar Federal Popa Cristian în data de 27.02.2019 la ora 22:00. Orice nelămurire legată de tragerea la sorti se va dezbate la ședința tehnică\, după înscrierea cluburilor\, la ora 19.00. \n4. Taxe de participare\n\ntaxă de participare sportiv la toate probele: 50 lei / sportiv ( indiferent la câte probe concurează)\ntaxă de participare echipă: 10 lei / persoană / echipă (indiferent că echipa participă la o probă sau 4 probe) – juniori III\,II\, I\, seniori\, masculin\, feminin \ntaxa arbitraj: fără arbitru 300 lei / club\, cluburi cu 1 arbitru – 100 lei / club\, cluburi cu minim 2 arbitri – 70 lei / club.\nÎn situația în care sunt cluburi care nu au achitat taxele anuale și doresc să participe la campionat\, trebuie să achite taxele prezentate pe pagina www.taekwondo-itf.ro.\nCluburile participante trebuie sã asigure: 1 arbitru / club pentru cluburile care au între 1 până la 10 sportivi\, 2 arbitri pentru cluburile care au între 11 până la 20 sportivi și 3 arbitri pentru cluburile care au peste 20 de sportivi.\n\nToate taxele vor fi facturate după tragerea la sorți online în data de 27.02.2019 iar cluburile vor fi obligate să achite sumele stabilite pentru sportivii înscriși (se achită sumele chiar și pentru spotivii retrași după data de 27 februarie 2019). \n5. Arbitraj\nOrganizatorul local va plăti cazarea pentru 1 ARBITRU / club pentru cluburile care înscriu în competitie până la 10 sportivi\, 2 ARBITRI / club pentru cluburile care încriu 11-19 sportivi în concurs și 3 ARBITRI / club pentru cluburile care încriu 20-30 sportivi în concurs. Arbitrii vor fi din cei acreditați de către federaţie pentru anul competitional 2019. Cazarea arbitrilor va începe de vineri 01.03.2019 orele 14:00 pânã duminică 03.03.2019 orele 12:00 la Hotel Rivulus. \nCluburile vor solicita cazarea pentru arbitri (conform numărului de sportivi inscriși) până în data de 20 februarie 2019. Arbitrii care nu și-au făcut rezervarea până la această dată își vor suporta cheltuielile de cazare și masă. \nArbitrii au obligaţia să participe la şedinţa de arbitraj – vineri 01.03.2019\, ÎN COSTUM DE ARBITRU\, aproximativ orele 20:00 la Sala de conferință a Centrului Național Olimpic (Fosta clădire DJS)\, lângă Sala Polivalentă. Cei care nu sunt prezenţi la sedinţa de arbitraj\, vor fi excluşi de pe lista arbitrilor şi vor pierde drepturile de cazare. \nVor avea ţinuta regulamentară de arbitru I.T.F. Cei care nu au ţinută regulamentară vor fi excluşi\, pierzându-şi drepturile de arbitraj (cazare\, plată). Arbitrii acceptaţi sunt cei de pe lista arbitrilor acreditaţi şi validaţi de Federaţia Română de Taekwon-Do I.T.F\, actualizată pe anul 2019\, după Stagiul de la Sibiu\, 18-20 ianuarie 2019. Comportamentul arbitrilor\, prestaţia şi remuneraţia acestora vor fi analizate de către membri Comitetului Executiv de Arbitraj și Directorul de Arbitraj\, dl. Banea Ciprian – 5 dan. \nArbitrii care doresc să arbitreze (acreditați pe 2019) dar nu se încadrează la punctul 5.a.\, vor avea condițiile de masă cu ceilalți arbitri (fără cazare). \nÎn cazul în care numărul de arbitri înscriși de cluburi este mai mare decât numărul necesar de arbitri\, selecția acestora se va face de către Directorul de Arbitraj\, urmând să fie comunicată lista cluburilor până la data de 25.02.2019. \n6. Antrenori\nAntrenorii trebuie să fie îmbrăcaţi în trening\, pantofi sport şi să aibă prosop. \nNumai o singură persoană (antrenor / instructor) are voie să însoţească sportivul la spaţiul de luptă. Antrenorii cluburilor sportive vor desemna un instructor secund pentru a merge cu sportivul în cazul în care doi sportivi de la acelaşi club participă simultan la concurs.  \n \nD. Altele\n1. Recompense\nRecompense pentru fiecare categorie de greutate şi sex\, după cum urmează: \n\nSportivii vor fi premiaţi cu diplome şi medalii pentru locurile I\, II şi III potrivit regulamantului;\nSe vor acorda Trofee pentru clasamentul general la: juniori III-II\, I și seniori\n\n2. Control doping\nFederaţia Română de Taekwon-do ITF va solicita antrenorilor să se prezinte cu sportivii la control doping conform solicitărilor ANAD. \n3. Cazare\nHoteluriSeneca***  \n– 75 lei / persoană – include mic dejun (bufet suedez) și cină– tel: 0262 250 431– rezervarea prin contactarea hotelului \nCarpati****  \n– 90 lei/persoană – include mic dejun– tel: 0737 506 642– Pentru rezervări: csmadtkd@gmail.com \nÎn cazul în care locurile deja s-au ocupat\, mai există următoarele hoteluri:– Hotel Mara *** – 0743008487 – http://www.hotelmara.ro– Euro Hotel *** – 0262222405 – https://eurohotel-bm.eu/– Hotel Europa – 0752161882 – http://www.hoteleuropabaiamare.ro/ \nCazarea Arbitrilor si a oficialilor– Cazarea arbitrilor se va face la Hotel Rivulus.– Cazarea se oferă în mod gratuit de către organizator\, cu condiția confirmării până la data de 20 februarie– Cazarea nu include mic dejun și cină\, astfel\, în momentul în care se face confirmarea\, se va specifica și dacă se dorește mic dejun sau cină\, costul acestora fiind: mic dejun 20 lei\, cină 25 lei. Plata se va face la înscrierea in competiție.– In zilele de compeție se va oferi în mod gratuit\, de către organizator\, o masă caldă arbitrilor\, la prânz. \n4. Alte informații\nLa festivitatea de premiere este obligatorie purtarea de încăltăminte sport și dobok / trening de către sportivi (nu se acceptă premierea în alt echipament). \nProgramul de concurs va fi postat pe site și comunicat cluburilor cel mai târziu în data de 28.02.2019. \nÎnscrierea cluburilor la competiție și cântarul sportivilor se vor face pe bază de programare\, urmând să fie consulate cluburile asupra orei sosirii în vederea stabilirii programului. \n  \nREZULTATE\n\n Descarcă / Download\n\nAceastă secțiune se va actualiza după finalizarea competiției\, începând cu 04 martie 2019…
URL:https://www.taekwondo-itf.ro/eveniment/campionatul-national-de-taekwon-do-itf-pentru-seniori-si-juniori-iii-ii-i-baia-mare-01-03-mar-2019/
LOCATION:Baia Mare\, Baia Mare\, Maramureș\, România
CATEGORIES:Campionat Național,Competiție
ATTACH;FMTTYPE=image/jpeg:https://www.taekwondo-itf.ro/wp-content/uploads/2019/02/AFIS.jpg
ORGANIZER;CN="CS MARTIAL ARTS DOJO - Baia Mare":MAILTO:csmadtkd@gmail.com
END:VEVENT
END:VCALENDAR