BEGIN:VCALENDAR
VERSION:2.0
PRODID:-//Federația Română de Taekwon-do I.T.F. - ECPv6.15.18//NONSGML v1.0//EN
CALSCALE:GREGORIAN
METHOD:PUBLISH
X-WR-CALNAME:Federația Română de Taekwon-do I.T.F.
X-ORIGINAL-URL:https://www.taekwondo-itf.ro
X-WR-CALDESC:Evenimente pentru Federația Română de Taekwon-do I.T.F.
REFRESH-INTERVAL;VALUE=DURATION:PT1H
X-Robots-Tag:noindex
X-PUBLISHED-TTL:PT1H
BEGIN:VTIMEZONE
TZID:Europe/Bucharest
BEGIN:DAYLIGHT
TZOFFSETFROM:+0200
TZOFFSETTO:+0300
TZNAME:EEST
DTSTART:20180325T010000
END:DAYLIGHT
BEGIN:STANDARD
TZOFFSETFROM:+0300
TZOFFSETTO:+0200
TZNAME:EET
DTSTART:20181028T010000
END:STANDARD
BEGIN:DAYLIGHT
TZOFFSETFROM:+0200
TZOFFSETTO:+0300
TZNAME:EEST
DTSTART:20190331T010000
END:DAYLIGHT
BEGIN:STANDARD
TZOFFSETFROM:+0300
TZOFFSETTO:+0200
TZNAME:EET
DTSTART:20191027T010000
END:STANDARD
BEGIN:DAYLIGHT
TZOFFSETFROM:+0200
TZOFFSETTO:+0300
TZNAME:EEST
DTSTART:20200329T010000
END:DAYLIGHT
BEGIN:STANDARD
TZOFFSETFROM:+0300
TZOFFSETTO:+0200
TZNAME:EET
DTSTART:20201025T010000
END:STANDARD
END:VTIMEZONE
BEGIN:VEVENT
DTSTART;VALUE=DATE:20190620
DTEND;VALUE=DATE:20190623
DTSTAMP:20260422T180058
CREATED:20190502T130548Z
LAST-MODIFIED:20190508T162328Z
UID:4039-1560988800-1561247999@www.taekwondo-itf.ro
SUMMARY:3rd "Mightyfist" International Gen. CHOI Taekwon-do ITF Memorial Cup
DESCRIPTION:The Romanian Federation of Taekwon-do I.T.F. and The Tae-Kyon Oradea Sports Club have the pleasure and the honor to invite you to participate at the “3rd Mightyfist International General Choi Memorial Cup” for juniors III\, II\, I and seniors\, on 20-22 june 2019\, in Romania-Oradea\, Bihor County. \n The Organizing Committee works hard to give you the best contest conditions and it is eagerly looking forward to welcome a greater number of athletes at this sporting event in Romania. \nYours sincerely\, \nPresident\, \nCosmin Oprescu \n\n Descarcă / Download\n\nINVITAȚIE CUPA CHOI 2019 (.pdf)(RO)\nINVITATION CHOI CUP 2019 (.pdf)(EN)\nRegistration_form_CHOI_Cup_-_Oradea_2019 (.xls)(EN)
URL:https://www.taekwondo-itf.ro/eveniment/3rd-mightyfist-international-gen-choi-taekwon-do-itf-memorial-cup/
LOCATION:Oradea\, Romania\, Oradea\, Bihor\, România
CATEGORIES:Birou Federal,Competiție,Cupă Internațională
ATTACH;FMTTYPE=image/jpeg:https://www.taekwondo-itf.ro/wp-content/uploads/2019/05/afis-gen-choi-2019-480x640.jpg
END:VEVENT
END:VCALENDAR