BEGIN:VCALENDAR
VERSION:2.0
PRODID:-//Federația Română de Taekwon-do I.T.F. - ECPv6.15.18//NONSGML v1.0//EN
CALSCALE:GREGORIAN
METHOD:PUBLISH
X-ORIGINAL-URL:https://www.taekwondo-itf.ro
X-WR-CALDESC:Evenimente pentru Federația Română de Taekwon-do I.T.F.
REFRESH-INTERVAL;VALUE=DURATION:PT1H
X-Robots-Tag:noindex
X-PUBLISHED-TTL:PT1H
BEGIN:VTIMEZONE
TZID:Europe/Bucharest
BEGIN:DAYLIGHT
TZOFFSETFROM:+0200
TZOFFSETTO:+0300
TZNAME:EEST
DTSTART:20190331T010000
END:DAYLIGHT
BEGIN:STANDARD
TZOFFSETFROM:+0300
TZOFFSETTO:+0200
TZNAME:EET
DTSTART:20191027T010000
END:STANDARD
BEGIN:DAYLIGHT
TZOFFSETFROM:+0200
TZOFFSETTO:+0300
TZNAME:EEST
DTSTART:20200329T010000
END:DAYLIGHT
BEGIN:STANDARD
TZOFFSETFROM:+0300
TZOFFSETTO:+0200
TZNAME:EET
DTSTART:20201025T010000
END:STANDARD
BEGIN:DAYLIGHT
TZOFFSETFROM:+0200
TZOFFSETTO:+0300
TZNAME:EEST
DTSTART:20210328T010000
END:DAYLIGHT
BEGIN:STANDARD
TZOFFSETFROM:+0300
TZOFFSETTO:+0200
TZNAME:EET
DTSTART:20211031T010000
END:STANDARD
END:VTIMEZONE
BEGIN:VEVENT
DTSTART;TZID=Europe/Bucharest:20200117T180000
DTEND;TZID=Europe/Bucharest:20200119T140000
DTSTAMP:20260422T080530
CREATED:20191216T212435Z
LAST-MODIFIED:20191216T212435Z
UID:4148-1579284000-1579442400@www.taekwondo-itf.ro
SUMMARY:STAGIUL NAȚIONAL PENTRU ARBITRI ȘI ANTRENORI\, SIBIU\, 17-19 IAN 2020
DESCRIPTION:Descarcă / Download\n\nAG-SIbiu-ordine_de_zi_-_20200118 (.pdf)\nInvitație stagiu arbitraj și instructori\, Sibiu Ian 2020 (.pdf)
URL:https://www.taekwondo-itf.ro/eveniment/stagiul-national-pentru-arbitri-si-antrenori-sibiu-17-19-ian-2020/
LOCATION:Sibiu\, Sala PUMA\, Bd-ul Victoriei\, nr 42\, et 1\, Sibiu\, Sibiu\, România
CATEGORIES:Adunare Generală,Birou Federal,Stagiu
ATTACH;FMTTYPE=:
ORGANIZER;CN="FRTKD":MAILTO:secretary@taekwondo-itf.ro
END:VEVENT
BEGIN:VEVENT
DTSTART;TZID=Europe/Bucharest:20200118T190000
DTEND;TZID=Europe/Bucharest:20200118T210000
DTSTAMP:20260422T080530
CREATED:20200114T100104Z
LAST-MODIFIED:20200114T100534Z
UID:4168-1579374000-1579381200@www.taekwondo-itf.ro
SUMMARY:GALA FEDERAȚIEI ROMÂNE DE TAEKWON-DO ITF 2020
DESCRIPTION:Descarcă / Download\n\nInvitatie Gala 20 de ani
URL:https://www.taekwondo-itf.ro/eveniment/gala-federatiei-romane-de-taekwon-do-itf-2020/
LOCATION:Filarmonica\, Sibiu\, Strada Cetății 3-5\, Sibiu\, Sibiu\, 550160\, România
ATTACH;FMTTYPE=image/jpeg:https://www.taekwondo-itf.ro/wp-content/uploads/2020/01/IMG-20200111-WA0007-1.jpg
END:VEVENT
BEGIN:VEVENT
DTSTART;TZID=Europe/Bucharest:20200124T180000
DTEND;TZID=Europe/Bucharest:20200126T140000
DTSTAMP:20260422T080530
CREATED:20200107T194206Z
LAST-MODIFIED:20200120T215544Z
UID:4165-1579888800-1580047200@www.taekwondo-itf.ro
SUMMARY:STAGIUL NAȚIONAL REGIONAL PENTRU SPORTIVI\, VASLUI\, 24 - 26 IAN 2020
DESCRIPTION:Descarcă / Download\n\nPROGRAM-STAGIU
URL:https://www.taekwondo-itf.ro/eveniment/stagiul-national-regional-pentru-sportivi-vaslui-24-26-ian-2020/
LOCATION:Hunedoara
CATEGORIES:Adunare Generală,Birou Federal,Stagiu
ATTACH;FMTTYPE=image/jpeg:https://www.taekwondo-itf.ro/wp-content/uploads/2020/01/afis.jpg
ORGANIZER;CN="FRTKD":MAILTO:secretary@taekwondo-itf.ro
END:VEVENT
BEGIN:VEVENT
DTSTART;TZID=Europe/Bucharest:20200131T180000
DTEND;TZID=Europe/Bucharest:20200202T140000
DTSTAMP:20260422T080530
CREATED:20200107T184550Z
LAST-MODIFIED:20200114T101030Z
UID:4154-1580493600-1580652000@www.taekwondo-itf.ro
SUMMARY:STAGIUL NAȚIONAL REGIONAL PENTRU SPORTIVI\, TIMIȘOARA\, 31 IAN - 02 FEB 2020
DESCRIPTION:Descarcă / Download\n\nInformații în curs de actualizare…
URL:https://www.taekwondo-itf.ro/eveniment/stagiul-national-regional-pentru-sportivi-timisoara-31-ian-02-feb-2020/
LOCATION:Hunedoara
CATEGORIES:Adunare Generală,Birou Federal,Stagiu
ATTACH;FMTTYPE=image/jpeg:https://www.taekwondo-itf.ro/wp-content/uploads/2020/01/Modificat_Afis_A3_stagiu_TKD_TM_2020-02.jpg
ORGANIZER;CN="FRTKD":MAILTO:secretary@taekwondo-itf.ro
END:VEVENT
END:VCALENDAR