BEGIN:VCALENDAR
VERSION:2.0
PRODID:-//Federația Română de Taekwon-do I.T.F. - ECPv6.15.18//NONSGML v1.0//EN
CALSCALE:GREGORIAN
METHOD:PUBLISH
X-ORIGINAL-URL:https://www.taekwondo-itf.ro
X-WR-CALDESC:Evenimente pentru Federația Română de Taekwon-do I.T.F.
REFRESH-INTERVAL;VALUE=DURATION:PT1H
X-Robots-Tag:noindex
X-PUBLISHED-TTL:PT1H
BEGIN:VTIMEZONE
TZID:Europe/Bucharest
BEGIN:DAYLIGHT
TZOFFSETFROM:+0200
TZOFFSETTO:+0300
TZNAME:EEST
DTSTART:20190331T010000
END:DAYLIGHT
BEGIN:STANDARD
TZOFFSETFROM:+0300
TZOFFSETTO:+0200
TZNAME:EET
DTSTART:20191027T010000
END:STANDARD
BEGIN:DAYLIGHT
TZOFFSETFROM:+0200
TZOFFSETTO:+0300
TZNAME:EEST
DTSTART:20200329T010000
END:DAYLIGHT
BEGIN:STANDARD
TZOFFSETFROM:+0300
TZOFFSETTO:+0200
TZNAME:EET
DTSTART:20201025T010000
END:STANDARD
BEGIN:DAYLIGHT
TZOFFSETFROM:+0200
TZOFFSETTO:+0300
TZNAME:EEST
DTSTART:20210328T010000
END:DAYLIGHT
BEGIN:STANDARD
TZOFFSETFROM:+0300
TZOFFSETTO:+0200
TZNAME:EET
DTSTART:20211031T010000
END:STANDARD
END:VTIMEZONE
BEGIN:VEVENT
DTSTART;TZID=Europe/Bucharest:20200817T150000
DTEND;TZID=Europe/Bucharest:20200822T150000
DTSTAMP:20260421T211428
CREATED:20200621T210454Z
LAST-MODIFIED:20200823T111807Z
UID:4216-1597676400-1598108400@www.taekwondo-itf.ro
SUMMARY:STAGIUL NAȚIONAL PENTRU SPORTIVI\, CONSTANȚA\, 17-23 AUG 2020
DESCRIPTION:Descarcă / Download\n\ninvitatie-Stagiu-Mamaia-2020\nModel_examen_de_centura_1_2_3_dan
URL:https://www.taekwondo-itf.ro/eveniment/stagiul-national-pentru-sportivi-constanta-17-23-aug-2020/
LOCATION:Constanța\, Constanța\, Constanța\, România
CATEGORIES:Birou Federal,Examen,Stagiu
ATTACH;FMTTYPE=image/jpeg:https://www.taekwondo-itf.ro/wp-content/uploads/2020/06/afis.jpg
ORGANIZER;CN="FRTKD":MAILTO:secretary@taekwondo-itf.ro
END:VEVENT
END:VCALENDAR