BEGIN:VCALENDAR
VERSION:2.0
PRODID:-//Federația Română de Taekwon-do I.T.F. - ECPv6.15.18//NONSGML v1.0//EN
CALSCALE:GREGORIAN
METHOD:PUBLISH
X-ORIGINAL-URL:https://www.taekwondo-itf.ro
X-WR-CALDESC:Evenimente pentru Federația Română de Taekwon-do I.T.F.
REFRESH-INTERVAL;VALUE=DURATION:PT1H
X-Robots-Tag:noindex
X-PUBLISHED-TTL:PT1H
BEGIN:VTIMEZONE
TZID:Europe/Bucharest
BEGIN:DAYLIGHT
TZOFFSETFROM:+0200
TZOFFSETTO:+0300
TZNAME:EEST
DTSTART:20190331T010000
END:DAYLIGHT
BEGIN:STANDARD
TZOFFSETFROM:+0300
TZOFFSETTO:+0200
TZNAME:EET
DTSTART:20191027T010000
END:STANDARD
BEGIN:DAYLIGHT
TZOFFSETFROM:+0200
TZOFFSETTO:+0300
TZNAME:EEST
DTSTART:20200329T010000
END:DAYLIGHT
BEGIN:STANDARD
TZOFFSETFROM:+0300
TZOFFSETTO:+0200
TZNAME:EET
DTSTART:20201025T010000
END:STANDARD
BEGIN:DAYLIGHT
TZOFFSETFROM:+0200
TZOFFSETTO:+0300
TZNAME:EEST
DTSTART:20210328T010000
END:DAYLIGHT
BEGIN:STANDARD
TZOFFSETFROM:+0300
TZOFFSETTO:+0200
TZNAME:EET
DTSTART:20211031T010000
END:STANDARD
END:VTIMEZONE
BEGIN:VEVENT
DTSTART;TZID=Europe/Bucharest:20200911T180000
DTEND;TZID=Europe/Bucharest:20200913T140000
DTSTAMP:20260421T194229
CREATED:20200823T101249Z
LAST-MODIFIED:20200901T074958Z
UID:4262-1599847200-1600005600@www.taekwondo-itf.ro
SUMMARY:STAGIUL NAȚIONAL PENTRU ARBITRI ȘI ANTRENORI\, SIBIU\, 11-13 SEP 2020
DESCRIPTION:Descarcă / Download\n\nInvitatie_stagiu_arbitraj_si_instructori_2020_Sibiu (.pdf)\nOrdin comun MTS-MS privitor la măsurile ce se aplică în perioada stării de alertă în privința activității sportive\, 24.08.2020
URL:https://www.taekwondo-itf.ro/eveniment/stagiul-national-pentru-arbitri-si-antrenori-sibiu-11-13-sep-2020/
LOCATION:Sibiu\, Sala PUMA\, Bd-ul Victoriei\, nr 42\, et 1\, Sibiu\, Sibiu\, România
CATEGORIES:Birou Federal,Stagiu
ATTACH;FMTTYPE=image/jpeg:https://www.taekwondo-itf.ro/wp-content/uploads/2020/08/118691586_990832804676701_8768715799151790715_n.jpg
ORGANIZER;CN="FRTKD":MAILTO:secretary@taekwondo-itf.ro
END:VEVENT
END:VCALENDAR