BEGIN:VCALENDAR
VERSION:2.0
PRODID:-//Federația Română de Taekwon-do I.T.F. - ECPv6.15.18//NONSGML v1.0//EN
CALSCALE:GREGORIAN
METHOD:PUBLISH
X-WR-CALNAME:Federația Română de Taekwon-do I.T.F.
X-ORIGINAL-URL:https://www.taekwondo-itf.ro
X-WR-CALDESC:Evenimente pentru Federația Română de Taekwon-do I.T.F.
REFRESH-INTERVAL;VALUE=DURATION:PT1H
X-Robots-Tag:noindex
X-PUBLISHED-TTL:PT1H
BEGIN:VTIMEZONE
TZID:Europe/Bucharest
BEGIN:DAYLIGHT
TZOFFSETFROM:+0200
TZOFFSETTO:+0300
TZNAME:EEST
DTSTART:20190331T010000
END:DAYLIGHT
BEGIN:STANDARD
TZOFFSETFROM:+0300
TZOFFSETTO:+0200
TZNAME:EET
DTSTART:20191027T010000
END:STANDARD
BEGIN:DAYLIGHT
TZOFFSETFROM:+0200
TZOFFSETTO:+0300
TZNAME:EEST
DTSTART:20200329T010000
END:DAYLIGHT
BEGIN:STANDARD
TZOFFSETFROM:+0300
TZOFFSETTO:+0200
TZNAME:EET
DTSTART:20201025T010000
END:STANDARD
BEGIN:DAYLIGHT
TZOFFSETFROM:+0200
TZOFFSETTO:+0300
TZNAME:EEST
DTSTART:20210328T010000
END:DAYLIGHT
BEGIN:STANDARD
TZOFFSETFROM:+0300
TZOFFSETTO:+0200
TZNAME:EET
DTSTART:20211031T010000
END:STANDARD
END:VTIMEZONE
BEGIN:VEVENT
DTSTART;VALUE=DATE:20201113
DTEND;VALUE=DATE:20201116
DTSTAMP:20260421T164651
CREATED:20201013T162101Z
LAST-MODIFIED:20201102T141547Z
UID:4277-1605225600-1605484799@www.taekwondo-itf.ro
SUMMARY:CAMPIONATUL NAȚIONAL DE TAEKWON-DO PENTRU JUNIORI I\, II\, III ȘI SENIORI\, TIMIȘOARA\, 13-15 NOV 2020 - ANULAT
DESCRIPTION:Descarcă / Download\n\nADUNARE GENERALĂ – ORDINE DE ZI nov – 2020 (.pdf)\nInvitatie Campionat National 2020 Timisoara (.pdf)\ninformare 2 – CAMPIONTUL NATIONAL – AG – NOV 2020 (.pdf)
URL:https://www.taekwondo-itf.ro/eveniment/campionatul-national-de-taekwon-do-pentru-juniori-i-ii-iii-si-seniori-timisoara-13-15-nov-2020/
LOCATION:Hunedoara
CATEGORIES:Adunare Generală,Birou Federal,Campionat Național,Competiție
END:VEVENT
BEGIN:VEVENT
DTSTART;TZID=Europe/Bucharest:20201114T170000
DTEND;TZID=Europe/Bucharest:20201114T200000
DTSTAMP:20260421T164651
CREATED:20201102T141746Z
LAST-MODIFIED:20201102T141939Z
UID:4294-1605373200-1605384000@www.taekwondo-itf.ro
SUMMARY:ADUNAREA GENERALĂ A CLUBURILOR MEMBRE FRTKD ITF\, SIBIU\, 14 NOV 2020
DESCRIPTION:Descarcă / Download\n\nADUNARE GENERALĂ – ORDINE DE ZI nov – 2020 (.pdf)\ninformare 2 – CAMPIONTUL NATIONAL – AG – NOV 2020 (.pdf)
URL:https://www.taekwondo-itf.ro/eveniment/adunarea-generala-a-cluburilor-membre-frtkd-itf-sibiu-14-nov-2020/
LOCATION:Sibiu\, Strada Sureanu 1\, Sibiu\, Sibiu\, România
END:VEVENT
END:VCALENDAR