BEGIN:VCALENDAR
VERSION:2.0
PRODID:-//Federația Română de Taekwon-do I.T.F. - ECPv6.15.18//NONSGML v1.0//EN
CALSCALE:GREGORIAN
METHOD:PUBLISH
X-ORIGINAL-URL:https://www.taekwondo-itf.ro
X-WR-CALDESC:Evenimente pentru Federația Română de Taekwon-do I.T.F.
REFRESH-INTERVAL;VALUE=DURATION:PT1H
X-Robots-Tag:noindex
X-PUBLISHED-TTL:PT1H
BEGIN:VTIMEZONE
TZID:Europe/Bucharest
BEGIN:DAYLIGHT
TZOFFSETFROM:+0200
TZOFFSETTO:+0300
TZNAME:EEST
DTSTART:20200329T010000
END:DAYLIGHT
BEGIN:STANDARD
TZOFFSETFROM:+0300
TZOFFSETTO:+0200
TZNAME:EET
DTSTART:20201025T010000
END:STANDARD
BEGIN:DAYLIGHT
TZOFFSETFROM:+0200
TZOFFSETTO:+0300
TZNAME:EEST
DTSTART:20210328T010000
END:DAYLIGHT
BEGIN:STANDARD
TZOFFSETFROM:+0300
TZOFFSETTO:+0200
TZNAME:EET
DTSTART:20211031T010000
END:STANDARD
BEGIN:DAYLIGHT
TZOFFSETFROM:+0200
TZOFFSETTO:+0300
TZNAME:EEST
DTSTART:20220327T010000
END:DAYLIGHT
BEGIN:STANDARD
TZOFFSETFROM:+0300
TZOFFSETTO:+0200
TZNAME:EET
DTSTART:20221030T010000
END:STANDARD
END:VTIMEZONE
BEGIN:VEVENT
DTSTART;VALUE=DATE:20210815
DTEND;VALUE=DATE:20210817
DTSTAMP:20260421T025850
CREATED:20210611T081621Z
LAST-MODIFIED:20210716T082655Z
UID:4416-1628985600-1629158399@www.taekwondo-itf.ro
SUMMARY:CAMPIONATUL NAȚIONAL DE TAEKWON-DO ITF PENTRU JUNIORI III-II\, MAMAIA\, 15-16 AUG 2021
DESCRIPTION:Descarcă / Download\n\nInvitație (.pdf)
URL:https://www.taekwondo-itf.ro/eveniment/campionatul-national-de-taekwon-do-itf-pentru-juniori-iii-ii-mamaia-15-16-aug-2021/
LOCATION:Mamaia\, Mamaia\, Constanța\, România
ORGANIZER;CN="FRTKD":MAILTO:secretary@taekwondo-itf.ro
END:VEVENT
BEGIN:VEVENT
DTSTART;VALUE=DATE:20210817
DTEND;VALUE=DATE:20210823
DTSTAMP:20260421T025850
CREATED:20210611T081949Z
LAST-MODIFIED:20210611T082027Z
UID:4421-1629158400-1629676799@www.taekwondo-itf.ro
SUMMARY:STAGIUL NAȚIONAL DE TAEKWON-DO ITF PENTRU SPORTIVI\, MAMAIA\, 17-22 AUG 2021
DESCRIPTION:Descarcă / Download\n\nInvitație Stagiu Mamaia 2021 (.pdf)\nModel întrebări la testul de examen centură 1\, 2\, 3 dan (.pdf)\nCerințe examen centură 1 dan (.pdf)\nCerințe examen centură 2 dan (.pdf)\nCerințe examen centură 3 dan (.pdf)\nCerințe examen centură 4 dan (.pdf)
URL:https://www.taekwondo-itf.ro/eveniment/stagiul-national-de-taekwon-do-itf-pentru-sportivi-mamaia-17-22-aug-2021/
LOCATION:Mamaia\, Mamaia\, Constanța\, România
ORGANIZER;CN="FRTKD":MAILTO:secretary@taekwondo-itf.ro
END:VEVENT
END:VCALENDAR