BEGIN:VCALENDAR
VERSION:2.0
PRODID:-//Federația Română de Taekwon-do I.T.F. - ECPv6.15.18//NONSGML v1.0//EN
CALSCALE:GREGORIAN
METHOD:PUBLISH
X-ORIGINAL-URL:https://www.taekwondo-itf.ro
X-WR-CALDESC:Evenimente pentru Federația Română de Taekwon-do I.T.F.
REFRESH-INTERVAL;VALUE=DURATION:PT1H
X-Robots-Tag:noindex
X-PUBLISHED-TTL:PT1H
BEGIN:VTIMEZONE
TZID:Europe/Bucharest
BEGIN:DAYLIGHT
TZOFFSETFROM:+0200
TZOFFSETTO:+0300
TZNAME:EEST
DTSTART:20200329T010000
END:DAYLIGHT
BEGIN:STANDARD
TZOFFSETFROM:+0300
TZOFFSETTO:+0200
TZNAME:EET
DTSTART:20201025T010000
END:STANDARD
BEGIN:DAYLIGHT
TZOFFSETFROM:+0200
TZOFFSETTO:+0300
TZNAME:EEST
DTSTART:20210328T010000
END:DAYLIGHT
BEGIN:STANDARD
TZOFFSETFROM:+0300
TZOFFSETTO:+0200
TZNAME:EET
DTSTART:20211031T010000
END:STANDARD
BEGIN:DAYLIGHT
TZOFFSETFROM:+0200
TZOFFSETTO:+0300
TZNAME:EEST
DTSTART:20220327T010000
END:DAYLIGHT
BEGIN:STANDARD
TZOFFSETFROM:+0300
TZOFFSETTO:+0200
TZNAME:EET
DTSTART:20221030T010000
END:STANDARD
END:VTIMEZONE
BEGIN:VEVENT
DTSTART;VALUE=DATE:20211105
DTEND;VALUE=DATE:20211107
DTSTAMP:20260420T220723
CREATED:20211028T145930Z
LAST-MODIFIED:20211102T091343Z
UID:4474-1636070400-1636243199@www.taekwondo-itf.ro
SUMMARY:CUPA JAGUAR OPEN DE TAEKWON-DO ITF PENTRU JUNIORI III și II TG. MUREȘ\, 05 - 06 NOV 2021
DESCRIPTION:Nr. 241 / 28.10.2021 \n  \nFederaţia Română de Taekwon-do I.T.F. şi Asociația Club Sportiv JAGUAR ACADEMY MUREȘ – Tg. Mureș au deosebita plăcere şi onoare de a vă invita să participați la Cupa Jaguar Open de Taekwon-do I.T.F pentru juniori III și II\, în perioada 05-06 noiembrie 2021\, localitatea Tg. Mureș\, județul Mureș. \n\n\n\nComitetul de organizare face eforturi deosebite pentru a vă oferi cele mai bune condiții de întrecere așteptând cu nerăbdare să întâmpine un număr cât mai mare de sportivi\, la acest eveniment sportiv. \n\n\n\nCu stimă și considerație\,Președinte\,Cosmin Oprescu \n\n\n\n\n\n\n\nA. Informații generale\n\n\n\nOrganizatori\n\n\n\n\n\n\n\nFederația Română de Taekwon-do I.T.F.  Str. Bradului\, 15-A-12Loc. Călan\, Jud. HunedoaraTel: 0766.800.330Email: secretary@taekwondo-itf.ro\n\n\n \nAsociația Club Sportiv JAGUAR ACADEMY MUREȘ – Tg. MureșTel: 0746 615 377Email: jaguaracademy2016@yahoo.com \n\n\n\n\n\n\nData\n\n\n\n05-06 noiembrie 2021 \n\n\n\nLocul\n\n\n\nSala Sporturilor Tg. Mureș\, Str. Aleea Parcul Sportivilor\, nr. 1 (Sala Polivalentă)\, Tg. Mureș\, jud. Mureș \n\n\n\n\n\n\n\nB. Regulament\n\n\n\n1. Participanți\n\n\n\nStructurile sportive cu C.I.S. eliberat de M.T.S.\, afiliate la Federaţia Română de Taekwon-do I.T.F. şi cu taxele plătite pe anul 2021. \n\n\n\nParticipă numai sportivi legitimaţi şi cu gradele acordate de către Federaţia Română de Taekwon-do I.T.F.\, număr nelimitat de sportivi / categorie / club. \n\n\n\nGradele vor fi achitate în contul federaţiei până la data înscrierii în competiţie iar sportivii vor fi validaţi de către Comisia de Evidență a Membrilor și Înscriere. Pentru a evita eventualele neclarităţi rugăm preşedinţii cluburilor să trimită dovada plăţii şi tabelul cu sportivii promovaţi în grad\, pentru a putea fi validați în sistemul online\, pe adresa secretary@taekwondo-itf.ro. \n\n\n\n\n\nGradul minim admis:  \n\n\n\n\njuniori III\, II: 9 GUP\n\n\n\n\n2. Probele de concurs\n\n\n\nJUNIORI III-II (masculin şi feminin) TULL\, LUPTĂ\, TEHNICI SPECIALE\, MĂSURAREA FORȚEI – sistem dinamometru\, SPEED KICK\n\n\n\nTull (M/F): \n\n\n\n\n-6 ani: o singură grupă\n-8 ani: o singură grupă\n-10 ani\, -12 ani\, -14 ani: două grupe\n\n9-6 GUP\n5-1 GUP\n\n\n\n\n\n\nTull echipe: (M/F) \n\n\n\nLuptă (M/F): \n\n\n\n\n-6 ani\n-8 ani: -24 kg\, +24 kg\n–10 ani: -25 kg\, -30 kg\, -35 kg\, -40 kg\, -45 kg\, +45 kg\n-12 ani: -30 kg\, -35 kg\, -40 kg\, -45 kg\, – 50 kg\, +50 kg\n-14 ani: -35 kg\, -40 kg\, -45 kg\, -50 kg\, -55 kg\, +55 kg\n\n\n\n\nNOTĂ: În cazul în care nu sunt înscriși minim 3 sportivi per categorie\, se comasează categoria mai mică la cea mai mare. \n\n\n\nTehnici speciale:  \n\n\n\n\nTwimyo Nomo Yop Cha Jirugi (toate categoriile de vârstă)\n\n\n\n\nMĂSURAREA FORȚEI – sistem dinamometru: \n\n\n\n\nM/F: -6 ani\, -8 ani\, -10 ani\, -12 ani\, -14 ani: Yop joomuk și dollyo chagi\n\nSPEED KICK – dollyo chagi \n\nM/F: -6 ani\, -8 ani\, -10 ani\, -12 ani\, -14 ani – sistem piramidal\n\n\n\n\n\n\n3. Echipamentul sportivilor\n\n\n\n\n\n\nEchipamentul oficial este cel omologat şi aprobat de FRTKD ITF\, A.E.T.F și I.T.F.\n\n\n\n\n\nEchipamentul fiecărui sportiv va fi verificat de un arbitru desemnat la intrarea acestuia pe suprafaţa de competiţie.\n\n\n\n\n\nSportivii vor avea acces la suprafaţa de concurs doar însoţiţi de un instructor sau antrenor de taekwon-do ITF\, pe baza cardului\, fiind echipaţi în culoarea colţului\, cu 2 minute înainte de începerea meciului\, conform grilelor de concurs.\n\n\n\n\n4. Contestații\n\n\n\nSe fac pe baza regulamentului de arbitraj. În cazul contestaţiei\, antrenorul trebuie să prezinte banii şi să completeze formularul de contestaţie pe loc\, la masa Jury President a ringului respectiv\, în maxim 5 minute de la terminarea întâlnirii în cauză. \n\n\n\n5. Cântarul\n\n\n\nCântărirea sportivilor va fi făcută la sâmbătă\, 06.11.2021\, de la ora 09:00 până la ora 10:00 la Sala Sporturilor (sala de conferințe)\, Str. Aleea Parcul Sportivilor\, Nr. 1\, Tg. Mureș\, jud. Mureș. \n\n\n\nLA CÂNTAR NU ESTE ADMISĂ DEPĂŞIREA LIMITEI MAXIME A CATEGORIEI! \n\n\n\nLa cântar sportivii se vor prezenta în pantaloni de dobok şi tricou (acestea însumând 0\,500 kg\, care vor fi scăzute). \n\n\n\nSportivii care la cântar depăşesc limita de greutate au la dispoziţie 1 oră (doar în ziua de vineri) de la primul cântar oficial pentru a confirma categoria. Dacă la al doilea cântar oficial\, vinerea\, sportivii nu se încadreză în categoria la care au fost înscrişi\, aceştia vor fi retraşi din categoria acestora. \n\n\n\n\n\n\n\nC. Înscriere\n\n\n\n1. Componența echipelor\n\n\n\nFiecare delegaţie poate fi alcătuită din: \n\n\n\n\n1 conducător delegaţie\n1 sau mai mulți antrenori și / sau instructori acreditați pe anul 2021\nsportivi competitori – juniori III\, II (masculin şi feminin)\n1 sau mai mulți arbitri acreditaţi pe anul 2021\n\n\n\n\n2. Cluburi eligibile pentru participare\n\n\n\nÎnscrierea sportivilor\, arbitrilor\, instructorilor în competiţie se va face online\, fiecare conducător de delegație primind în prealabil acces pe bază de utilizator și parolă la sistemul electronic de înscriere. \n\n\n\nFinalizarea înscrierilor va avea loc sâmbătă\, 06.11.2021\, de la ora 9:00 până la ora 10:00 la Sala Sporturilor (sala de conferințe)\, Str. Aleea Parcul Sportivilor\, Nr. 1\, Tg. Mureș\, jud. Mureș\, conform programului de prezentare la înscriere care va fi anunțat până la această dată. \n\n\n\nÎnscrierea se va face de către 1 antrenor / instructor de la clubul respectiv. Antrenorul / instructorul va prezenta tabelul cu responsabilitatea accidentelor și va achita taxele de competiţie. \n\n\n\nOrice neconcordanță se va lămuri cu Directorul de Competiție\, dl Ciprian Banea\, care este și Membru în Comisia de Înscriere. \n\n\n\nNotă: \n\n\n\n\nConducătorii delegaţiilor au obligaţia ca la înscrierea în competiţie conform programului să prezinte tabelul cu responsabilitatea accidentelor. \n\n\n\n\n\nLa categoria oficiali\, pentru poziţiile antrenor sau instructor\, nu pot fi înscrise persoane ce nu deţin această calitate.\n\n\n\n\n3. Data limită\n\n\n\nCluburile vor solicita cazarea pentru arbitri (conform numărului de sportivi înscriși) până în data de 04.11.2021 pe adresa: jaguaracademy2016@yahoo.com Arbitrii care nu și-au făcut rezervarea până la această dată își vor suporta cheltuielile de cazare și masă. Persoana de contact: Alecsandra Matei\, tel. 0746 615 377. \n\n\n \nÎnscrierea în sistemul online se va face până joi\, 04.11.2021\, ora 20:00. După aceast termen\, sistemul va bloca automat procesul de înscriere și nu se vor mai putea face modificări. Operarea înscrierilor în sistemul online poate lua un timp considerabil\, ținând cont de numărul de persoane înscrise\, sunt necesare încărcări de fotografii pentru fiecare persoană înscrisă. NU VĂ BAZAȚI PE ULTIMA ZI!!! \n\n\n\nTragerile la sorţi vor fi efectuate electronic în sistem online de către domnul Secretar Federal Popa Cristian în data de joi\, 04.11.2021 la ora 21h00. Orice nelămurire legată de tragerea la sorti se va dezbate la la Tg. Mureș. \n\n\n\n4. Taxe de participare\n\n\n \n\ntaxă de participare sportiv: 30 lei / probă / sportiv (cu excepția probei Luptă Tradițională – gratis)\n\n\n\n \n\ntaxa arbitraj: fără arbitru 300 lei / club\, cluburi cu 1 arbitru – 100 lei / club\, cluburi cu minim 2 arbitri – 70 lei / club.\n\n\n\n \n\nÎn situația în care sunt cluburi care nu au achitat taxele anuale și doresc să participe la campionat\, trebuie să achite taxele prezentate pe pagina www.taekwondo-itf.ro.\n\n\n\n \n\nCluburile participante trebuie sã asigure: 1 arbitru / club pentru cluburile care au între 1 până la 10 sportivi\, 2 arbitri pentru cluburile care au între 11 până la 20 sportivi și 3 arbitri pentru cluburile care au peste 20 de sportivi.\n\n\n\n \n\n\n \n5. Arbitraj\n\n\n\n\n\nCluburile vor solicita cazarea pentru arbitri (conform numărului de sportivi înscrişi) până în data de 04.11.2021. Arbitrii care nu și-au făcut rezervarea până la această dată își vor suporta cheltuielile de cazare și masă. \n\n\n \nArbitrii au obligaţia să participe la şedinţa de arbitraj – sâmbătă 06.11.2021\, ÎN COSTUM DE ARBITRU\, aproximativ ora 10:00 la Sala Sporturilor Tg. Mureș\, Sala de conferințe. Cei care nu sunt prezenţi la sedinţa de arbitraj\, vor fi excluşi de pe lista arbitrilor şi vor pierde drepturile de cazare. \n\n\n \nVor avea ţinuta regulamentară de arbitru I.T.F. Cei care nu au ţinută regulamentară vor fi excluşi\, pierzându-şi drepturile de arbitraj (cazare\, plată). Arbitrii acceptaţi sunt cei de pe lista arbitrilor acreditaţi şi validaţi de Federaţia Română de Taekwon-Do I.T.F\, actualizată pe anul 2021\, după Stagiile de arbitraj de la Sibiu\, 2021. Comportamentul arbitrilor\, prestaţia şi remuneraţia acestora vor fi analizate de către membri Comisiei de Arbitraj și Directorul de Arbitraj\, dl. Banea Ciprian – 5 dan. \n\n\n \nArbitrii care doresc să arbitreze (acreditați pe 2021) dar nu se încadrează la paragraful 1\, vor avea condițiile de masă cu ceilalți arbitri (fără cazare). \n\n\n \nÎn cazul în care numărul de arbitri înscriși de cluburi este mai mare decât numărul necesar de arbitri\, selecția acestora se va face de către Directorul de Arbitraj\, urmând să fie comunicată lista către conducătorii cluburilor. \n\n\n\n6. Antrenori\n\n\n\nAntrenorii trebuie să fie îmbrăcaţi în trening\, pantofi sport şi să aibă prosop. \n\n\n\nNumai o singură persoană (antrenor / instructor) are voie să însoţească sportivul la spaţiul de luptă. Antrenorii cluburilor sportive vor desemna un instructor secund pentru a merge cu sportivul în cazul în care doi sportivi de la acelaşi club participă simultan la concurs. \n\n\n\n\n\n\n\nD. Altele\n\n\n\n1. Recompense\n\n\n\nRecompense pentru fiecare categorie de greutate şi sex\, după cum urmează: \n\n\n\n\nSportivii vor fi premiați cu diplome şi medalii pentru locurile I\, II şi III potrivit regulamentului;\n\n\n\n\n\nSe vor acorda Trofee pentru clasamentul general la: juniori III-II.\n\n\n\n\n2. Control doping\n\n\n\nFederaţia Română de Taekwon-do ITF va solicita antrenorilor să se prezinte cu sportivii la control doping conform solicitărilor ANAD. \n\n\n\n3. Cazare\n\n\n\n\nse va publica o notă informativă în acest sens\n\n\n\n\nRezervarile se fac de către fiecare club în parte. \n\n\n\n4. Alte informații\n\n\n\nÎn vederea participării la Cupa Jaguar Open de Taekwon-do ITF pentru juniori III-II de la Tg. Mureș\, din perioada 05-06 noiembrie 2021\, este obligatorie testarea sportivilor\, arbitrilor\, antrenorilor\, cu teste antigen SARS CoV-2\, efectuate în unitățile avizate de Ministerul Sănătății cu maxim 48 de ore înainte de data și ora cântarului\, conform Ordinului comun al MTS și MS nr. 535/1505/2021\, publicat în Monitorul Oficial nr 775 / 11.08.2021 și prezentarea la înscriere a buletinului de analiză cu rezultatul testului negativ. \nPersoanele vaccinate împotriva virusului SARS CoV-2 pt care au trecut 10 zile de la finalizarea schemei complete de vaccinare\, precum și minorii (vârsta < 18 ani) sunt exceptați de la obligația testării.  \nSportivii\, arbitrii\, antrenorii care sunt vaccinați\, vor prezenta la înscriere adeverința de vaccinare (accesați site https://certificat-covid.gov.ro). \nNOTĂ: regulile de access / organizare referitoare la COVID-19 sunt cele în vigoare la ora publicării prezentei invitații\, putând suferi modificări în funcție de eventualele modificări / completări ale legislației. \nLa festivitatea de premiere este obligatorie purtarea de încălțăminte sport si dobok/trening de către sportivi (nu se acceptă premierea în alt echipament). \n\n\n\nProgramul de concurs va fi postat pe site și comunicat cluburilor cel mai târziu în data de 05.11.2021. \n\n\n\nÎnscrierea cluburilor la competiție și cântarul sportivilor se vor face pe bază de programare\, urmând să fie consulate cluburile asupra orei sosirii în vederea stabilirii programului.
URL:https://www.taekwondo-itf.ro/eveniment/cupa-jaguar-open-de-taekwon-do-itf-pentru-juniori-iii-si-ii-tg-mures-05-06-nov-2021/
LOCATION:Sala Sporturilor Tg. Mureș\, Aleea Parcul Sportivilor\, nr. 1\, Târgu Mureș\, Mureș\, Romania
CATEGORIES:Adunare Generală,Birou Federal,Competiție,Cupă Națională
ORGANIZER;CN="FRTKD":MAILTO:secretary@taekwondo-itf.ro
END:VEVENT
END:VCALENDAR