BEGIN:VCALENDAR
VERSION:2.0
PRODID:-//Federația Română de Taekwon-do I.T.F. - ECPv6.15.18//NONSGML v1.0//EN
CALSCALE:GREGORIAN
METHOD:PUBLISH
X-ORIGINAL-URL:https://www.taekwondo-itf.ro
X-WR-CALDESC:Evenimente pentru Federația Română de Taekwon-do I.T.F.
REFRESH-INTERVAL;VALUE=DURATION:PT1H
X-Robots-Tag:noindex
X-PUBLISHED-TTL:PT1H
BEGIN:VTIMEZONE
TZID:Europe/Bucharest
BEGIN:DAYLIGHT
TZOFFSETFROM:+0200
TZOFFSETTO:+0300
TZNAME:EEST
DTSTART:20210328T010000
END:DAYLIGHT
BEGIN:STANDARD
TZOFFSETFROM:+0300
TZOFFSETTO:+0200
TZNAME:EET
DTSTART:20211031T010000
END:STANDARD
BEGIN:DAYLIGHT
TZOFFSETFROM:+0200
TZOFFSETTO:+0300
TZNAME:EEST
DTSTART:20220327T010000
END:DAYLIGHT
BEGIN:STANDARD
TZOFFSETFROM:+0300
TZOFFSETTO:+0200
TZNAME:EET
DTSTART:20221030T010000
END:STANDARD
BEGIN:DAYLIGHT
TZOFFSETFROM:+0200
TZOFFSETTO:+0300
TZNAME:EEST
DTSTART:20230326T010000
END:DAYLIGHT
BEGIN:STANDARD
TZOFFSETFROM:+0300
TZOFFSETTO:+0200
TZNAME:EET
DTSTART:20231029T010000
END:STANDARD
END:VTIMEZONE
BEGIN:VEVENT
DTSTART;VALUE=DATE:20220121
DTEND;VALUE=DATE:20220122
DTSTAMP:20260420T191932
CREATED:20211205T162831Z
LAST-MODIFIED:20220120T195734Z
UID:4482-1642723200-1642809599@www.taekwondo-itf.ro
SUMMARY:Adunare Generală Ordinară a cluburilor membre FRTKD ITF
DESCRIPTION:Descarcă / Download\n\nConvocare-AG-ordinara_ianuarie_2022 (.pdf)\nProgram stagiu ianuarie 2022 Hateg (.pdf)
URL:https://www.taekwondo-itf.ro/eveniment/adunare-generala-ordinara-a-cluburilor-membre-frtkd-itf/
LOCATION:Hațeg\, Jud. Hunedoara\, Hațeg\, Hunedoara
CATEGORIES:Adunare Generală,Stagiu
ATTACH;FMTTYPE=image/png:https://www.taekwondo-itf.ro/wp-content/uploads/2021/12/Presentation.png
ORGANIZER;CN="Cosmin Oprescu - Pre%C8%99edinte FRTKD ITF":MAILTO:president@taekwondo-itf.ro
END:VEVENT
BEGIN:VEVENT
DTSTART;VALUE=DATE:20220121
DTEND;VALUE=DATE:20220122
DTSTAMP:20260420T191932
CREATED:20211205T163944Z
LAST-MODIFIED:20220120T203250Z
UID:4488-1642723200-1642809599@www.taekwondo-itf.ro
SUMMARY:Adunare Generală de Alegeri la nivel de FRTKD ITF
DESCRIPTION:Descarcă / Download\n\nConvocare-AG-alegeri_ianuarie_2022 (.pdf)\nlista-documente-pentru-candidaturi (.pdf)Convocare-AG-alegeri_ianuarie_2022\nDeclaratie-pe-proprie-raspundere (.docx)\nProgram stagiu ianuarie 2022 Hateg (.pdf)
URL:https://www.taekwondo-itf.ro/eveniment/adunare-generala-de-alegeri-la-nivel-de-frtkd-itf/
LOCATION:Hațeg\, Jud. Hunedoara\, Hațeg\, Hunedoara
CATEGORIES:Adunare Generală,Alegeri,Stagiu
ATTACH;FMTTYPE=image/jpeg:https://www.taekwondo-itf.ro/wp-content/uploads/2021/12/header-elections.jpg
ORGANIZER;CN="Cosmin Oprescu - Pre%C8%99edinte FRTKD ITF":MAILTO:president@taekwondo-itf.ro
END:VEVENT
BEGIN:VEVENT
DTSTART;VALUE=DATE:20220121
DTEND;VALUE=DATE:20220122
DTSTAMP:20260420T191932
CREATED:20211205T164355Z
LAST-MODIFIED:20220206T080152Z
UID:4495-1642723200-1642809599@www.taekwondo-itf.ro
SUMMARY:Ședință de Birou Federal
DESCRIPTION:Descarcă / Download\n\nConvocare-BF-_ianuarie_2022 (.pdf)\nProgram stagiu ianuarie 2022 Hateg (.pdf)
URL:https://www.taekwondo-itf.ro/eveniment/sedinta-de-birou-federal-2/
LOCATION:Hațeg\, Jud. Hunedoara\, Hațeg\, Hunedoara
CATEGORIES:Alegeri,Birou Federal,Stagiu
ATTACH;FMTTYPE=image/jpeg:https://www.taekwondo-itf.ro/wp-content/uploads/2020/12/AG.jpg
ORGANIZER;CN="Cosmin Oprescu - Pre%C8%99edinte FRTKD ITF":MAILTO:president@taekwondo-itf.ro
END:VEVENT
BEGIN:VEVENT
DTSTART;VALUE=DATE:20220121
DTEND;VALUE=DATE:20220124
DTSTAMP:20260420T191932
CREATED:20211205T164748Z
LAST-MODIFIED:20220120T195636Z
UID:4498-1642723200-1642982399@www.taekwondo-itf.ro
SUMMARY:Stagiul Național pentru Arbitri Antrenori și Instructori\, Hațeg (HD)\, 21-23 IAN 2021
DESCRIPTION:Descarcă / Download\n\nInvitatie Stagiu Hațeg 2022 (.pdf)\nProgram stagiu ianuarie 2022 Hateg (.pdf)
URL:https://www.taekwondo-itf.ro/eveniment/stagiul-national-pentru-arbitri-si-antrenori-hateg-21-23-ian-2021/
LOCATION:Hațeg\, Jud. Hunedoara\, Hațeg\, Hunedoara
CATEGORIES:Stagiu
ORGANIZER;CN="FRTKD":MAILTO:secretary@taekwondo-itf.ro
END:VEVENT
END:VCALENDAR