BEGIN:VCALENDAR
VERSION:2.0
PRODID:-//Federația Română de Taekwon-do I.T.F. - ECPv6.15.18//NONSGML v1.0//EN
CALSCALE:GREGORIAN
METHOD:PUBLISH
X-ORIGINAL-URL:https://www.taekwondo-itf.ro
X-WR-CALDESC:Evenimente pentru Federația Română de Taekwon-do I.T.F.
REFRESH-INTERVAL;VALUE=DURATION:PT1H
X-Robots-Tag:noindex
X-PUBLISHED-TTL:PT1H
BEGIN:VTIMEZONE
TZID:Europe/Bucharest
BEGIN:DAYLIGHT
TZOFFSETFROM:+0200
TZOFFSETTO:+0300
TZNAME:EEST
DTSTART:20210328T010000
END:DAYLIGHT
BEGIN:STANDARD
TZOFFSETFROM:+0300
TZOFFSETTO:+0200
TZNAME:EET
DTSTART:20211031T010000
END:STANDARD
BEGIN:DAYLIGHT
TZOFFSETFROM:+0200
TZOFFSETTO:+0300
TZNAME:EEST
DTSTART:20220327T010000
END:DAYLIGHT
BEGIN:STANDARD
TZOFFSETFROM:+0300
TZOFFSETTO:+0200
TZNAME:EET
DTSTART:20221030T010000
END:STANDARD
BEGIN:DAYLIGHT
TZOFFSETFROM:+0200
TZOFFSETTO:+0300
TZNAME:EEST
DTSTART:20230326T010000
END:DAYLIGHT
BEGIN:STANDARD
TZOFFSETFROM:+0300
TZOFFSETTO:+0200
TZNAME:EET
DTSTART:20231029T010000
END:STANDARD
END:VTIMEZONE
BEGIN:VEVENT
DTSTART;VALUE=DATE:20220823
DTEND;VALUE=DATE:20220829
DTSTAMP:20260420T084014
CREATED:20220714T065419Z
LAST-MODIFIED:20220825T094623Z
UID:4727-1661212800-1661731199@www.taekwondo-itf.ro
SUMMARY:STAGIUL NAȚIONAL DE TAEKWON-DO ITF PENTRU SPORTIVI\, MAMAIA\, 23-28 AUG 2022
DESCRIPTION:Descarcă / Download\n\nInvitatie Stagiu National – Taekwon-do Kids – Mamaia 2022 (.pdf)\nModel întrebări la testul de examen centură 1\, 2\, 3 dan (.pdf)\nCerințe examen centură 1 dan (.pdf)\nCerințe examen centură 2 dan (.pdf)\nCerințe examen centură 3 dan (.pdf)\nCerințe examen centură 4 dan (.pdf)
URL:https://www.taekwondo-itf.ro/eveniment/stagiul-national-de-taekwon-do-itf-pentru-sportivi-mamaia-23-28-aug-2022/
LOCATION:Mamaia\, Mamaia\, Constanța\, România
CATEGORIES:Examen,Stagiu
ATTACH;FMTTYPE=image/jpeg:https://www.taekwondo-itf.ro/wp-content/uploads/2022/07/300888535_515298793732126_4549337346686637411_n.jpg
ORGANIZER;CN="FRTKD":MAILTO:secretary@taekwondo-itf.ro
END:VEVENT
END:VCALENDAR