BEGIN:VCALENDAR
VERSION:2.0
PRODID:-//Federația Română de Taekwon-do I.T.F. - ECPv6.15.18//NONSGML v1.0//EN
CALSCALE:GREGORIAN
METHOD:PUBLISH
X-ORIGINAL-URL:https://www.taekwondo-itf.ro
X-WR-CALDESC:Evenimente pentru Federația Română de Taekwon-do I.T.F.
REFRESH-INTERVAL;VALUE=DURATION:PT1H
X-Robots-Tag:noindex
X-PUBLISHED-TTL:PT1H
BEGIN:VTIMEZONE
TZID:Europe/Bucharest
BEGIN:DAYLIGHT
TZOFFSETFROM:+0200
TZOFFSETTO:+0300
TZNAME:EEST
DTSTART:20210328T010000
END:DAYLIGHT
BEGIN:STANDARD
TZOFFSETFROM:+0300
TZOFFSETTO:+0200
TZNAME:EET
DTSTART:20211031T010000
END:STANDARD
BEGIN:DAYLIGHT
TZOFFSETFROM:+0200
TZOFFSETTO:+0300
TZNAME:EEST
DTSTART:20220327T010000
END:DAYLIGHT
BEGIN:STANDARD
TZOFFSETFROM:+0300
TZOFFSETTO:+0200
TZNAME:EET
DTSTART:20221030T010000
END:STANDARD
BEGIN:DAYLIGHT
TZOFFSETFROM:+0200
TZOFFSETTO:+0300
TZNAME:EEST
DTSTART:20230326T010000
END:DAYLIGHT
BEGIN:STANDARD
TZOFFSETFROM:+0300
TZOFFSETTO:+0200
TZNAME:EET
DTSTART:20231029T010000
END:STANDARD
END:VTIMEZONE
BEGIN:VEVENT
DTSTART;VALUE=DATE:20221117
DTEND;VALUE=DATE:20221121
DTSTAMP:20260420T035539
CREATED:20221025T210155Z
LAST-MODIFIED:20221115T212109Z
UID:4785-1668643200-1668988799@www.taekwondo-itf.ro
SUMMARY:Taekwon-do I.T.F. Open Balkan Cup for kids\, cadets\, juniors and seniors\, Sibiu\, Romania\, 17-20 NOV 2022
DESCRIPTION:Descarcă / Download\n\nBalkan Open Cup Sibiu 2022 – Invitation (.pdf)\nRegistration link to SportData: https://www.sportdata.org/taekwondo_itf/set-online/veranstaltung_info_main.php?active_menu=calendar&vernr=359#a_eventhead\nAccommodation info (to be uploaded soon) (.pdf)\nEvent_schedule (.pdf)\nRisk_waiver (EN)(.docx)\nResponsabilitatea_accidentelor (RO)(.docx)\nCompetition Draws (Grile Competiție)
URL:https://www.taekwondo-itf.ro/eveniment/taekwon-do-i-t-f-open-balkan-cup-for-kids-cadets-juniors-and-seniors-sibiu-romania-17-20-nov-2022/
LOCATION:Sala Polivalentă Sibiu\, Strada Octavian Goga\, 1\, Sibiu\, Sibiu
CATEGORIES:Competiție,Cupă Internațională
ATTACH;FMTTYPE=image/jpeg:https://www.taekwondo-itf.ro/wp-content/uploads/2022/10/WhatsApp-Image-2022-10-25-at-20.38.53.jpeg
ORGANIZER;CN="FRTKD":MAILTO:secretary@taekwondo-itf.ro
END:VEVENT
END:VCALENDAR