BEGIN:VCALENDAR
VERSION:2.0
PRODID:-//Federația Română de Taekwon-do I.T.F. - ECPv6.15.18//NONSGML v1.0//EN
CALSCALE:GREGORIAN
METHOD:PUBLISH
X-WR-CALNAME:Federația Română de Taekwon-do I.T.F.
X-ORIGINAL-URL:https://www.taekwondo-itf.ro
X-WR-CALDESC:Evenimente pentru Federația Română de Taekwon-do I.T.F.
REFRESH-INTERVAL;VALUE=DURATION:PT1H
X-Robots-Tag:noindex
X-PUBLISHED-TTL:PT1H
BEGIN:VTIMEZONE
TZID:Europe/Bucharest
BEGIN:DAYLIGHT
TZOFFSETFROM:+0200
TZOFFSETTO:+0300
TZNAME:EEST
DTSTART:20220327T010000
END:DAYLIGHT
BEGIN:STANDARD
TZOFFSETFROM:+0300
TZOFFSETTO:+0200
TZNAME:EET
DTSTART:20221030T010000
END:STANDARD
BEGIN:DAYLIGHT
TZOFFSETFROM:+0200
TZOFFSETTO:+0300
TZNAME:EEST
DTSTART:20230326T010000
END:DAYLIGHT
BEGIN:STANDARD
TZOFFSETFROM:+0300
TZOFFSETTO:+0200
TZNAME:EET
DTSTART:20231029T010000
END:STANDARD
BEGIN:DAYLIGHT
TZOFFSETFROM:+0200
TZOFFSETTO:+0300
TZNAME:EEST
DTSTART:20240331T010000
END:DAYLIGHT
BEGIN:STANDARD
TZOFFSETFROM:+0300
TZOFFSETTO:+0200
TZNAME:EET
DTSTART:20241027T010000
END:STANDARD
END:VTIMEZONE
BEGIN:VEVENT
DTSTART;VALUE=DATE:20230203
DTEND;VALUE=DATE:20230206
DTSTAMP:20260419T233157
CREATED:20230125T164124Z
LAST-MODIFIED:20230201T131555Z
UID:36554-1675382400-1675641599@www.taekwondo-itf.ro
SUMMARY:Stagiul național regional tehnic de perfecționare pentru sportivi și Taekwon-do Kids\, Bârlad (VS)\, 03-05 FEB 2023
DESCRIPTION:Descarcă / Download\n\nInvitatie_stagiu_de_perfecționare_sportivi_2023_Bârlad (.pdf)\nProgram_stagiu_2023_Bârlad (.pdf)\nEXAMEN_CENTURA-1-2-3-4-dan (.doc)
URL:https://www.taekwondo-itf.ro/eveniment/stagiul-national-regional-tehnic-de-perfectionare-pentru-sportivi-si-taekwon-do-kids-barlad-vs-03-05-feb-2023/
LOCATION:Bârlad\, jud. Vaslui\, Strada Nicolae Tonitza 20\, Bârlad\, Vaslui\, România
CATEGORIES:Examen,Stagiu
ORGANIZER;CN="FRTKD":MAILTO:secretary@taekwondo-itf.ro
END:VEVENT
BEGIN:VEVENT
DTSTART;VALUE=DATE:20230217
DTEND;VALUE=DATE:20230220
DTSTAMP:20260419T233157
CREATED:20230125T165033Z
LAST-MODIFIED:20230217T093213Z
UID:36594-1676592000-1676851199@www.taekwondo-itf.ro
SUMMARY:Stagiul național regional tehnic de perfecționare pentru sportivi și Taekwon-do Kids\, Sibiu (SB)\, 17-19 FEB 2023
DESCRIPTION:Descarcă / Download\n\nInvitatie_stagiu_de_perfecționare_sportivi_2023_Sibiu (.pdf)\nProgram_stagiu_2023_Sibiu (.pdf)\nEXAMEN_CENTURA-1-2-3-4-dan (.doc)
URL:https://www.taekwondo-itf.ro/eveniment/stagiul-national-regional-tehnic-de-perfectionare-pentru-sportivi-si-taekwon-do-kids-sibiu-sb-17-19-feb-2023/
LOCATION:Sibiu\, Strada Sureanu 1\, Sibiu\, Sibiu\, România
CATEGORIES:Examen,Stagiu
ORGANIZER;CN="FRTKD":MAILTO:secretary@taekwondo-itf.ro
END:VEVENT
END:VCALENDAR